BEGIN:VCALENDAR
VERSION:2.0
PRODID:-//Stichting Kitten Rescue Curacao - ECPv6.15.20//NONSGML v1.0//EN
CALSCALE:GREGORIAN
METHOD:PUBLISH
X-WR-CALNAME:Stichting Kitten Rescue Curacao
X-ORIGINAL-URL:https://kittenrescuecuracao.com
X-WR-CALDESC:Evenementen voor Stichting Kitten Rescue Curacao
REFRESH-INTERVAL;VALUE=DURATION:PT1H
X-Robots-Tag:noindex
X-PUBLISHED-TTL:PT1H
BEGIN:VTIMEZONE
TZID:UTC
BEGIN:STANDARD
TZOFFSETFROM:+0000
TZOFFSETTO:+0000
TZNAME:UTC
DTSTART:20250101T000000
END:STANDARD
END:VTIMEZONE
BEGIN:VEVENT
DTSTART;VALUE=DATE:20260425
DTEND;VALUE=DATE:20260426
DTSTAMP:20260424T091207
CREATED:20260226T132703Z
LAST-MODIFIED:20260226T132703Z
UID:10000260-1777075200-1777161599@kittenrescuecuracao.com
SUMMARY:Gratis Sterilisatie katten bij Veterinary Practice Zoetrum
DESCRIPTION:Houd er rekening mee dat je jouw kat(ten) op de dag van de afspraak moet brengen tussen 8:00 – 9:00 uur naar kliniek Veterinary Practice Zoetrum! Je kunt jouw kat(ten) dezelfde dag weer ophalen.\nTene kuenta ku lo tin ku trese bo pushi riba dia di sita den mainta na luga di opvang na kliniek Veterinary Practice Zoetrum!
URL:https://kittenrescuecuracao.com/sterilisatieacties/gratis-sterilisatie-katten-bij-veterinary-practice-zoetrum-2/2026-04-25/
LOCATION:Veterinary Practice Zoetrum\, Seru Loraweg 41\, Willemstad\, 0000CW\, Curaçao
ATTACH;FMTTYPE=image/jpeg:https://kittenrescuecuracao.com/wp-content/uploads/2026/02/zoetrum.jpg
END:VEVENT
BEGIN:VEVENT
DTSTART;VALUE=DATE:20260502
DTEND;VALUE=DATE:20260503
DTSTAMP:20260424T091207
CREATED:20260226T132703Z
LAST-MODIFIED:20260226T132703Z
UID:10000261-1777680000-1777766399@kittenrescuecuracao.com
SUMMARY:Gratis Sterilisatie katten bij Veterinary Practice Zoetrum
DESCRIPTION:Houd er rekening mee dat je jouw kat(ten) op de dag van de afspraak moet brengen tussen 8:00 – 9:00 uur naar kliniek Veterinary Practice Zoetrum! Je kunt jouw kat(ten) dezelfde dag weer ophalen.\nTene kuenta ku lo tin ku trese bo pushi riba dia di sita den mainta na luga di opvang na kliniek Veterinary Practice Zoetrum!
URL:https://kittenrescuecuracao.com/sterilisatieacties/gratis-sterilisatie-katten-bij-veterinary-practice-zoetrum-2/2026-05-02/
LOCATION:Veterinary Practice Zoetrum\, Seru Loraweg 41\, Willemstad\, 0000CW\, Curaçao
ATTACH;FMTTYPE=image/jpeg:https://kittenrescuecuracao.com/wp-content/uploads/2026/02/zoetrum.jpg
END:VEVENT
BEGIN:VEVENT
DTSTART;VALUE=DATE:20260509
DTEND;VALUE=DATE:20260510
DTSTAMP:20260424T091207
CREATED:20260226T132703Z
LAST-MODIFIED:20260226T132703Z
UID:10000262-1778284800-1778371199@kittenrescuecuracao.com
SUMMARY:Gratis Sterilisatie katten bij Veterinary Practice Zoetrum
DESCRIPTION:Houd er rekening mee dat je jouw kat(ten) op de dag van de afspraak moet brengen tussen 8:00 – 9:00 uur naar kliniek Veterinary Practice Zoetrum! Je kunt jouw kat(ten) dezelfde dag weer ophalen.\nTene kuenta ku lo tin ku trese bo pushi riba dia di sita den mainta na luga di opvang na kliniek Veterinary Practice Zoetrum!
URL:https://kittenrescuecuracao.com/sterilisatieacties/gratis-sterilisatie-katten-bij-veterinary-practice-zoetrum-2/2026-05-09/
LOCATION:Veterinary Practice Zoetrum\, Seru Loraweg 41\, Willemstad\, 0000CW\, Curaçao
ATTACH;FMTTYPE=image/jpeg:https://kittenrescuecuracao.com/wp-content/uploads/2026/02/zoetrum.jpg
END:VEVENT
BEGIN:VEVENT
DTSTART;VALUE=DATE:20260516
DTEND;VALUE=DATE:20260517
DTSTAMP:20260424T091207
CREATED:20260226T132703Z
LAST-MODIFIED:20260226T132703Z
UID:10000263-1778889600-1778975999@kittenrescuecuracao.com
SUMMARY:Gratis Sterilisatie katten bij Veterinary Practice Zoetrum
DESCRIPTION:Houd er rekening mee dat je jouw kat(ten) op de dag van de afspraak moet brengen tussen 8:00 – 9:00 uur naar kliniek Veterinary Practice Zoetrum! Je kunt jouw kat(ten) dezelfde dag weer ophalen.\nTene kuenta ku lo tin ku trese bo pushi riba dia di sita den mainta na luga di opvang na kliniek Veterinary Practice Zoetrum!
URL:https://kittenrescuecuracao.com/sterilisatieacties/gratis-sterilisatie-katten-bij-veterinary-practice-zoetrum-2/2026-05-16/
LOCATION:Veterinary Practice Zoetrum\, Seru Loraweg 41\, Willemstad\, 0000CW\, Curaçao
ATTACH;FMTTYPE=image/jpeg:https://kittenrescuecuracao.com/wp-content/uploads/2026/02/zoetrum.jpg
END:VEVENT
BEGIN:VEVENT
DTSTART;VALUE=DATE:20260523
DTEND;VALUE=DATE:20260524
DTSTAMP:20260424T091207
CREATED:20260226T132703Z
LAST-MODIFIED:20260226T132703Z
UID:10000264-1779494400-1779580799@kittenrescuecuracao.com
SUMMARY:Gratis Sterilisatie katten bij Veterinary Practice Zoetrum
DESCRIPTION:Houd er rekening mee dat je jouw kat(ten) op de dag van de afspraak moet brengen tussen 8:00 – 9:00 uur naar kliniek Veterinary Practice Zoetrum! Je kunt jouw kat(ten) dezelfde dag weer ophalen.\nTene kuenta ku lo tin ku trese bo pushi riba dia di sita den mainta na luga di opvang na kliniek Veterinary Practice Zoetrum!
URL:https://kittenrescuecuracao.com/sterilisatieacties/gratis-sterilisatie-katten-bij-veterinary-practice-zoetrum-2/2026-05-23/
LOCATION:Veterinary Practice Zoetrum\, Seru Loraweg 41\, Willemstad\, 0000CW\, Curaçao
ATTACH;FMTTYPE=image/jpeg:https://kittenrescuecuracao.com/wp-content/uploads/2026/02/zoetrum.jpg
END:VEVENT
BEGIN:VEVENT
DTSTART;VALUE=DATE:20260530
DTEND;VALUE=DATE:20260531
DTSTAMP:20260424T091207
CREATED:20260226T132703Z
LAST-MODIFIED:20260226T132703Z
UID:10000265-1780099200-1780185599@kittenrescuecuracao.com
SUMMARY:Gratis Sterilisatie katten bij Veterinary Practice Zoetrum
DESCRIPTION:Houd er rekening mee dat je jouw kat(ten) op de dag van de afspraak moet brengen tussen 8:00 – 9:00 uur naar kliniek Veterinary Practice Zoetrum! Je kunt jouw kat(ten) dezelfde dag weer ophalen.\nTene kuenta ku lo tin ku trese bo pushi riba dia di sita den mainta na luga di opvang na kliniek Veterinary Practice Zoetrum!
URL:https://kittenrescuecuracao.com/sterilisatieacties/gratis-sterilisatie-katten-bij-veterinary-practice-zoetrum-2/2026-05-30/
LOCATION:Veterinary Practice Zoetrum\, Seru Loraweg 41\, Willemstad\, 0000CW\, Curaçao
ATTACH;FMTTYPE=image/jpeg:https://kittenrescuecuracao.com/wp-content/uploads/2026/02/zoetrum.jpg
END:VEVENT
BEGIN:VEVENT
DTSTART;VALUE=DATE:20260606
DTEND;VALUE=DATE:20260607
DTSTAMP:20260424T091207
CREATED:20260226T132703Z
LAST-MODIFIED:20260226T132703Z
UID:10000266-1780704000-1780790399@kittenrescuecuracao.com
SUMMARY:Gratis Sterilisatie katten bij Veterinary Practice Zoetrum
DESCRIPTION:Houd er rekening mee dat je jouw kat(ten) op de dag van de afspraak moet brengen tussen 8:00 – 9:00 uur naar kliniek Veterinary Practice Zoetrum! Je kunt jouw kat(ten) dezelfde dag weer ophalen.\nTene kuenta ku lo tin ku trese bo pushi riba dia di sita den mainta na luga di opvang na kliniek Veterinary Practice Zoetrum!
URL:https://kittenrescuecuracao.com/sterilisatieacties/gratis-sterilisatie-katten-bij-veterinary-practice-zoetrum-2/2026-06-06/
LOCATION:Veterinary Practice Zoetrum\, Seru Loraweg 41\, Willemstad\, 0000CW\, Curaçao
ATTACH;FMTTYPE=image/jpeg:https://kittenrescuecuracao.com/wp-content/uploads/2026/02/zoetrum.jpg
END:VEVENT
BEGIN:VEVENT
DTSTART;VALUE=DATE:20260613
DTEND;VALUE=DATE:20260614
DTSTAMP:20260424T091207
CREATED:20260226T132703Z
LAST-MODIFIED:20260226T132703Z
UID:10000267-1781308800-1781395199@kittenrescuecuracao.com
SUMMARY:Gratis Sterilisatie katten bij Veterinary Practice Zoetrum
DESCRIPTION:Houd er rekening mee dat je jouw kat(ten) op de dag van de afspraak moet brengen tussen 8:00 – 9:00 uur naar kliniek Veterinary Practice Zoetrum! Je kunt jouw kat(ten) dezelfde dag weer ophalen.\nTene kuenta ku lo tin ku trese bo pushi riba dia di sita den mainta na luga di opvang na kliniek Veterinary Practice Zoetrum!
URL:https://kittenrescuecuracao.com/sterilisatieacties/gratis-sterilisatie-katten-bij-veterinary-practice-zoetrum-2/2026-06-13/
LOCATION:Veterinary Practice Zoetrum\, Seru Loraweg 41\, Willemstad\, 0000CW\, Curaçao
ATTACH;FMTTYPE=image/jpeg:https://kittenrescuecuracao.com/wp-content/uploads/2026/02/zoetrum.jpg
END:VEVENT
END:VCALENDAR