BEGIN:VCALENDAR
VERSION:2.0
PRODID:-//Stichting Kitten Rescue Curacao - ECPv6.15.20//NONSGML v1.0//EN
CALSCALE:GREGORIAN
METHOD:PUBLISH
X-WR-CALNAME:Stichting Kitten Rescue Curacao
X-ORIGINAL-URL:https://kittenrescuecuracao.com
X-WR-CALDESC:Evenementen voor Stichting Kitten Rescue Curacao
REFRESH-INTERVAL;VALUE=DURATION:PT1H
X-Robots-Tag:noindex
X-PUBLISHED-TTL:PT1H
BEGIN:VTIMEZONE
TZID:UTC
BEGIN:STANDARD
TZOFFSETFROM:+0000
TZOFFSETTO:+0000
TZNAME:UTC
DTSTART:20250101T000000
END:STANDARD
END:VTIMEZONE
BEGIN:VEVENT
DTSTART;VALUE=DATE:20260418
DTEND;VALUE=DATE:20260419
DTSTAMP:20260418T010852
CREATED:20260226T132703Z
LAST-MODIFIED:20260226T132703Z
UID:10000259-1776470400-1776556799@kittenrescuecuracao.com
SUMMARY:Gratis Sterilisatie katten bij Veterinary Practice Zoetrum
DESCRIPTION:Houd er rekening mee dat je jouw kat(ten) op de dag van de afspraak moet brengen tussen 8:00 – 9:00 uur naar kliniek Veterinary Practice Zoetrum! Je kunt jouw kat(ten) dezelfde dag weer ophalen.\nTene kuenta ku lo tin ku trese bo pushi riba dia di sita den mainta na luga di opvang na kliniek Veterinary Practice Zoetrum!
URL:https://kittenrescuecuracao.com/sterilisatieacties/gratis-sterilisatie-katten-bij-veterinary-practice-zoetrum-2/2026-04-18/
LOCATION:Veterinary Practice Zoetrum\, Seru Loraweg 41\, Willemstad\, 0000CW\, Curaçao
ATTACH;FMTTYPE=image/jpeg:https://kittenrescuecuracao.com/wp-content/uploads/2026/02/zoetrum.jpg
END:VEVENT
BEGIN:VEVENT
DTSTART;VALUE=DATE:20260421
DTEND;VALUE=DATE:20260422
DTSTAMP:20260418T010852
CREATED:20260226T132357Z
LAST-MODIFIED:20260226T132357Z
UID:10000228-1776729600-1776815999@kittenrescuecuracao.com
SUMMARY:Gratis Sterilisatie katten bij Veterinary Practice Zoetrum
DESCRIPTION:Houd er rekening mee dat je jouw kat(ten) op de dag van de afspraak moet brengen tussen 8:00 – 9:00 uur naar kliniek Veterinary Practice Zoetrum! Je kunt jouw kat(ten) dezelfde dag weer ophalen.\nTene kuenta ku lo tin ku trese bo pushi riba dia di sita den mainta na luga di opvang na kliniek Veterinary Practice Zoetrum!
URL:https://kittenrescuecuracao.com/sterilisatieacties/gratis-sterilisatie-katten-bij-veterinary-practice-zoetrum/2026-04-21/
LOCATION:Veterinary Practice Zoetrum\, Seru Loraweg 41\, Willemstad\, 0000CW\, Curaçao
ATTACH;FMTTYPE=image/jpeg:https://kittenrescuecuracao.com/wp-content/uploads/2026/02/zoetrum.jpg
END:VEVENT
BEGIN:VEVENT
DTSTART;VALUE=DATE:20260421
DTEND;VALUE=DATE:20260422
DTSTAMP:20260418T010852
CREATED:20260226T133128Z
LAST-MODIFIED:20260226T133128Z
UID:10000276-1776729600-1776815999@kittenrescuecuracao.com
SUMMARY:Gratis Sterilisatie katten bij VCC Ronde Klip
DESCRIPTION:Houd er rekening mee dat je jouw kat(ten) op de dag van de afspraak moet brengen tussen 8:00 – 8:15 uur naar kliniek VCC Ronde Klip! Je kunt jouw kat(ten) dezelfde dag weer ophalen tussen 13:00 – 16:00 uur.\nTene kuenta ku lo tin ku trese bo pushi riba dia di sita den mainta na luga di opvang na kliniek VCC Ronde Klip!
URL:https://kittenrescuecuracao.com/sterilisatieacties/gratis-sterilisatie-katten-bij-vcc-ronde-klip/2026-04-21/
LOCATION:VCC Ronde Klip\, Ronde Klip\, Kaminda George Willems\, Willemstad\, 0000CW\, Curaçao
ATTACH;FMTTYPE=image/jpeg:https://kittenrescuecuracao.com/wp-content/uploads/2024/05/vcc-quenny.jpg
END:VEVENT
BEGIN:VEVENT
DTSTART;VALUE=DATE:20260424
DTEND;VALUE=DATE:20260425
DTSTAMP:20260418T010852
CREATED:20260226T132537Z
LAST-MODIFIED:20260312T121454Z
UID:10000244-1776988800-1777075199@kittenrescuecuracao.com
SUMMARY:Gratis Sterilisatie katten Veterinary Practice Zoetrum
DESCRIPTION:Houd er rekening mee dat je jouw kat(ten) op de dag van de afspraak moet brengen tussen 8:00 – 9:00 uur naar kliniek Veterinary Practice Zoetrum! Je kunt jouw kat(ten) dezelfde dag weer ophalen.\nTene kuenta ku lo tin ku trese bo pushi riba dia di sita den mainta na luga di opvang na kliniek Veterinary Practice Zoetrum!
URL:https://kittenrescuecuracao.com/sterilisatieacties/gratis-sterilisatie-katten-veterinary-practice-zoetrum/2026-04-24/
LOCATION:Veterinary Practice Zoetrum\, Seru Loraweg 41\, Willemstad\, 0000CW\, Curaçao
ATTACH;FMTTYPE=image/jpeg:https://kittenrescuecuracao.com/wp-content/uploads/2026/02/zoetrum.jpg
END:VEVENT
BEGIN:VEVENT
DTSTART;VALUE=DATE:20260424
DTEND;VALUE=DATE:20260425
DTSTAMP:20260418T010852
CREATED:20260311T161429Z
LAST-MODIFIED:20260312T121413Z
UID:10000212-1776988800-1777075199@kittenrescuecuracao.com
SUMMARY:Gratis Sterilisatie Katten bij VCC Ronde Klip
DESCRIPTION:Houd er rekening mee dat je jouw kat(ten) op de dag van de afspraak moet brengen tussen 8:00 – 8:15 uur naar kliniek VCC Ronde Klip! Je kunt jouw kat(ten) dezelfde dag weer ophalen tussen 13:00 – 16:00 uur.\nTene kuenta ku lo tin ku trese bo pushi riba dia di sita den mainta na luga di opvang na kliniek VCC Ronde Klip!
URL:https://kittenrescuecuracao.com/sterilisatieacties/gratis-sterilisatie-bij-vcc-ronde-klip-2/2026-04-24/
LOCATION:VCC Ronde Klip\, Ronde Klip\, Kaminda George Willems\, Willemstad\, 0000CW\, Curaçao
ATTACH;FMTTYPE=image/jpeg:https://kittenrescuecuracao.com/wp-content/uploads/2024/05/vcc-quenny.jpg
END:VEVENT
BEGIN:VEVENT
DTSTART;VALUE=DATE:20260425
DTEND;VALUE=DATE:20260426
DTSTAMP:20260418T010852
CREATED:20260226T132703Z
LAST-MODIFIED:20260226T132703Z
UID:10000260-1777075200-1777161599@kittenrescuecuracao.com
SUMMARY:Gratis Sterilisatie katten bij Veterinary Practice Zoetrum
DESCRIPTION:Houd er rekening mee dat je jouw kat(ten) op de dag van de afspraak moet brengen tussen 8:00 – 9:00 uur naar kliniek Veterinary Practice Zoetrum! Je kunt jouw kat(ten) dezelfde dag weer ophalen.\nTene kuenta ku lo tin ku trese bo pushi riba dia di sita den mainta na luga di opvang na kliniek Veterinary Practice Zoetrum!
URL:https://kittenrescuecuracao.com/sterilisatieacties/gratis-sterilisatie-katten-bij-veterinary-practice-zoetrum-2/2026-04-25/
LOCATION:Veterinary Practice Zoetrum\, Seru Loraweg 41\, Willemstad\, 0000CW\, Curaçao
ATTACH;FMTTYPE=image/jpeg:https://kittenrescuecuracao.com/wp-content/uploads/2026/02/zoetrum.jpg
END:VEVENT
BEGIN:VEVENT
DTSTART;VALUE=DATE:20260428
DTEND;VALUE=DATE:20260429
DTSTAMP:20260418T010852
CREATED:20260226T132357Z
LAST-MODIFIED:20260226T132357Z
UID:10000229-1777334400-1777420799@kittenrescuecuracao.com
SUMMARY:Gratis Sterilisatie katten bij Veterinary Practice Zoetrum
DESCRIPTION:Houd er rekening mee dat je jouw kat(ten) op de dag van de afspraak moet brengen tussen 8:00 – 9:00 uur naar kliniek Veterinary Practice Zoetrum! Je kunt jouw kat(ten) dezelfde dag weer ophalen.\nTene kuenta ku lo tin ku trese bo pushi riba dia di sita den mainta na luga di opvang na kliniek Veterinary Practice Zoetrum!
URL:https://kittenrescuecuracao.com/sterilisatieacties/gratis-sterilisatie-katten-bij-veterinary-practice-zoetrum/2026-04-28/
LOCATION:Veterinary Practice Zoetrum\, Seru Loraweg 41\, Willemstad\, 0000CW\, Curaçao
ATTACH;FMTTYPE=image/jpeg:https://kittenrescuecuracao.com/wp-content/uploads/2026/02/zoetrum.jpg
END:VEVENT
BEGIN:VEVENT
DTSTART;VALUE=DATE:20260428
DTEND;VALUE=DATE:20260429
DTSTAMP:20260418T010852
CREATED:20260226T133128Z
LAST-MODIFIED:20260226T133128Z
UID:10000277-1777334400-1777420799@kittenrescuecuracao.com
SUMMARY:Gratis Sterilisatie katten bij VCC Ronde Klip
DESCRIPTION:Houd er rekening mee dat je jouw kat(ten) op de dag van de afspraak moet brengen tussen 8:00 – 8:15 uur naar kliniek VCC Ronde Klip! Je kunt jouw kat(ten) dezelfde dag weer ophalen tussen 13:00 – 16:00 uur.\nTene kuenta ku lo tin ku trese bo pushi riba dia di sita den mainta na luga di opvang na kliniek VCC Ronde Klip!
URL:https://kittenrescuecuracao.com/sterilisatieacties/gratis-sterilisatie-katten-bij-vcc-ronde-klip/2026-04-28/
LOCATION:VCC Ronde Klip\, Ronde Klip\, Kaminda George Willems\, Willemstad\, 0000CW\, Curaçao
ATTACH;FMTTYPE=image/jpeg:https://kittenrescuecuracao.com/wp-content/uploads/2024/05/vcc-quenny.jpg
END:VEVENT
BEGIN:VEVENT
DTSTART;VALUE=DATE:20260502
DTEND;VALUE=DATE:20260503
DTSTAMP:20260418T010852
CREATED:20260226T132703Z
LAST-MODIFIED:20260226T132703Z
UID:10000261-1777680000-1777766399@kittenrescuecuracao.com
SUMMARY:Gratis Sterilisatie katten bij Veterinary Practice Zoetrum
DESCRIPTION:Houd er rekening mee dat je jouw kat(ten) op de dag van de afspraak moet brengen tussen 8:00 – 9:00 uur naar kliniek Veterinary Practice Zoetrum! Je kunt jouw kat(ten) dezelfde dag weer ophalen.\nTene kuenta ku lo tin ku trese bo pushi riba dia di sita den mainta na luga di opvang na kliniek Veterinary Practice Zoetrum!
URL:https://kittenrescuecuracao.com/sterilisatieacties/gratis-sterilisatie-katten-bij-veterinary-practice-zoetrum-2/2026-05-02/
LOCATION:Veterinary Practice Zoetrum\, Seru Loraweg 41\, Willemstad\, 0000CW\, Curaçao
ATTACH;FMTTYPE=image/jpeg:https://kittenrescuecuracao.com/wp-content/uploads/2026/02/zoetrum.jpg
END:VEVENT
BEGIN:VEVENT
DTSTART;VALUE=DATE:20260505
DTEND;VALUE=DATE:20260506
DTSTAMP:20260418T010852
CREATED:20260226T132357Z
LAST-MODIFIED:20260226T132357Z
UID:10000230-1777939200-1778025599@kittenrescuecuracao.com
SUMMARY:Gratis Sterilisatie katten bij Veterinary Practice Zoetrum
DESCRIPTION:Houd er rekening mee dat je jouw kat(ten) op de dag van de afspraak moet brengen tussen 8:00 – 9:00 uur naar kliniek Veterinary Practice Zoetrum! Je kunt jouw kat(ten) dezelfde dag weer ophalen.\nTene kuenta ku lo tin ku trese bo pushi riba dia di sita den mainta na luga di opvang na kliniek Veterinary Practice Zoetrum!
URL:https://kittenrescuecuracao.com/sterilisatieacties/gratis-sterilisatie-katten-bij-veterinary-practice-zoetrum/2026-05-05/
LOCATION:Veterinary Practice Zoetrum\, Seru Loraweg 41\, Willemstad\, 0000CW\, Curaçao
ATTACH;FMTTYPE=image/jpeg:https://kittenrescuecuracao.com/wp-content/uploads/2026/02/zoetrum.jpg
END:VEVENT
BEGIN:VEVENT
DTSTART;VALUE=DATE:20260505
DTEND;VALUE=DATE:20260506
DTSTAMP:20260418T010852
CREATED:20260226T133128Z
LAST-MODIFIED:20260226T133128Z
UID:10000278-1777939200-1778025599@kittenrescuecuracao.com
SUMMARY:Gratis Sterilisatie katten bij VCC Ronde Klip
DESCRIPTION:Houd er rekening mee dat je jouw kat(ten) op de dag van de afspraak moet brengen tussen 8:00 – 8:15 uur naar kliniek VCC Ronde Klip! Je kunt jouw kat(ten) dezelfde dag weer ophalen tussen 13:00 – 16:00 uur.\nTene kuenta ku lo tin ku trese bo pushi riba dia di sita den mainta na luga di opvang na kliniek VCC Ronde Klip!
URL:https://kittenrescuecuracao.com/sterilisatieacties/gratis-sterilisatie-katten-bij-vcc-ronde-klip/2026-05-05/
LOCATION:VCC Ronde Klip\, Ronde Klip\, Kaminda George Willems\, Willemstad\, 0000CW\, Curaçao
ATTACH;FMTTYPE=image/jpeg:https://kittenrescuecuracao.com/wp-content/uploads/2024/05/vcc-quenny.jpg
END:VEVENT
BEGIN:VEVENT
DTSTART;VALUE=DATE:20260508
DTEND;VALUE=DATE:20260509
DTSTAMP:20260418T010852
CREATED:20260226T132537Z
LAST-MODIFIED:20260312T121454Z
UID:10000246-1778198400-1778284799@kittenrescuecuracao.com
SUMMARY:Gratis Sterilisatie katten Veterinary Practice Zoetrum
DESCRIPTION:Houd er rekening mee dat je jouw kat(ten) op de dag van de afspraak moet brengen tussen 8:00 – 9:00 uur naar kliniek Veterinary Practice Zoetrum! Je kunt jouw kat(ten) dezelfde dag weer ophalen.\nTene kuenta ku lo tin ku trese bo pushi riba dia di sita den mainta na luga di opvang na kliniek Veterinary Practice Zoetrum!
URL:https://kittenrescuecuracao.com/sterilisatieacties/gratis-sterilisatie-katten-veterinary-practice-zoetrum/2026-05-08/
LOCATION:Veterinary Practice Zoetrum\, Seru Loraweg 41\, Willemstad\, 0000CW\, Curaçao
ATTACH;FMTTYPE=image/jpeg:https://kittenrescuecuracao.com/wp-content/uploads/2026/02/zoetrum.jpg
END:VEVENT
BEGIN:VEVENT
DTSTART;VALUE=DATE:20260508
DTEND;VALUE=DATE:20260509
DTSTAMP:20260418T010852
CREATED:20260311T161429Z
LAST-MODIFIED:20260312T121413Z
UID:10000214-1778198400-1778284799@kittenrescuecuracao.com
SUMMARY:Gratis Sterilisatie Katten bij VCC Ronde Klip
DESCRIPTION:Houd er rekening mee dat je jouw kat(ten) op de dag van de afspraak moet brengen tussen 8:00 – 8:15 uur naar kliniek VCC Ronde Klip! Je kunt jouw kat(ten) dezelfde dag weer ophalen tussen 13:00 – 16:00 uur.\nTene kuenta ku lo tin ku trese bo pushi riba dia di sita den mainta na luga di opvang na kliniek VCC Ronde Klip!
URL:https://kittenrescuecuracao.com/sterilisatieacties/gratis-sterilisatie-bij-vcc-ronde-klip-2/2026-05-08/
LOCATION:VCC Ronde Klip\, Ronde Klip\, Kaminda George Willems\, Willemstad\, 0000CW\, Curaçao
ATTACH;FMTTYPE=image/jpeg:https://kittenrescuecuracao.com/wp-content/uploads/2024/05/vcc-quenny.jpg
END:VEVENT
BEGIN:VEVENT
DTSTART;VALUE=DATE:20260509
DTEND;VALUE=DATE:20260510
DTSTAMP:20260418T010853
CREATED:20260226T132703Z
LAST-MODIFIED:20260226T132703Z
UID:10000262-1778284800-1778371199@kittenrescuecuracao.com
SUMMARY:Gratis Sterilisatie katten bij Veterinary Practice Zoetrum
DESCRIPTION:Houd er rekening mee dat je jouw kat(ten) op de dag van de afspraak moet brengen tussen 8:00 – 9:00 uur naar kliniek Veterinary Practice Zoetrum! Je kunt jouw kat(ten) dezelfde dag weer ophalen.\nTene kuenta ku lo tin ku trese bo pushi riba dia di sita den mainta na luga di opvang na kliniek Veterinary Practice Zoetrum!
URL:https://kittenrescuecuracao.com/sterilisatieacties/gratis-sterilisatie-katten-bij-veterinary-practice-zoetrum-2/2026-05-09/
LOCATION:Veterinary Practice Zoetrum\, Seru Loraweg 41\, Willemstad\, 0000CW\, Curaçao
ATTACH;FMTTYPE=image/jpeg:https://kittenrescuecuracao.com/wp-content/uploads/2026/02/zoetrum.jpg
END:VEVENT
BEGIN:VEVENT
DTSTART;VALUE=DATE:20260512
DTEND;VALUE=DATE:20260513
DTSTAMP:20260418T010853
CREATED:20260226T132357Z
LAST-MODIFIED:20260226T132357Z
UID:10000231-1778544000-1778630399@kittenrescuecuracao.com
SUMMARY:Gratis Sterilisatie katten bij Veterinary Practice Zoetrum
DESCRIPTION:Houd er rekening mee dat je jouw kat(ten) op de dag van de afspraak moet brengen tussen 8:00 – 9:00 uur naar kliniek Veterinary Practice Zoetrum! Je kunt jouw kat(ten) dezelfde dag weer ophalen.\nTene kuenta ku lo tin ku trese bo pushi riba dia di sita den mainta na luga di opvang na kliniek Veterinary Practice Zoetrum!
URL:https://kittenrescuecuracao.com/sterilisatieacties/gratis-sterilisatie-katten-bij-veterinary-practice-zoetrum/2026-05-12/
LOCATION:Veterinary Practice Zoetrum\, Seru Loraweg 41\, Willemstad\, 0000CW\, Curaçao
ATTACH;FMTTYPE=image/jpeg:https://kittenrescuecuracao.com/wp-content/uploads/2026/02/zoetrum.jpg
END:VEVENT
BEGIN:VEVENT
DTSTART;VALUE=DATE:20260512
DTEND;VALUE=DATE:20260513
DTSTAMP:20260418T010853
CREATED:20260226T133128Z
LAST-MODIFIED:20260226T133128Z
UID:10000279-1778544000-1778630399@kittenrescuecuracao.com
SUMMARY:Gratis Sterilisatie katten bij VCC Ronde Klip
DESCRIPTION:Houd er rekening mee dat je jouw kat(ten) op de dag van de afspraak moet brengen tussen 8:00 – 8:15 uur naar kliniek VCC Ronde Klip! Je kunt jouw kat(ten) dezelfde dag weer ophalen tussen 13:00 – 16:00 uur.\nTene kuenta ku lo tin ku trese bo pushi riba dia di sita den mainta na luga di opvang na kliniek VCC Ronde Klip!
URL:https://kittenrescuecuracao.com/sterilisatieacties/gratis-sterilisatie-katten-bij-vcc-ronde-klip/2026-05-12/
LOCATION:VCC Ronde Klip\, Ronde Klip\, Kaminda George Willems\, Willemstad\, 0000CW\, Curaçao
ATTACH;FMTTYPE=image/jpeg:https://kittenrescuecuracao.com/wp-content/uploads/2024/05/vcc-quenny.jpg
END:VEVENT
BEGIN:VEVENT
DTSTART;VALUE=DATE:20260515
DTEND;VALUE=DATE:20260516
DTSTAMP:20260418T010853
CREATED:20260226T132537Z
LAST-MODIFIED:20260312T121454Z
UID:10000247-1778803200-1778889599@kittenrescuecuracao.com
SUMMARY:Gratis Sterilisatie katten Veterinary Practice Zoetrum
DESCRIPTION:Houd er rekening mee dat je jouw kat(ten) op de dag van de afspraak moet brengen tussen 8:00 – 9:00 uur naar kliniek Veterinary Practice Zoetrum! Je kunt jouw kat(ten) dezelfde dag weer ophalen.\nTene kuenta ku lo tin ku trese bo pushi riba dia di sita den mainta na luga di opvang na kliniek Veterinary Practice Zoetrum!
URL:https://kittenrescuecuracao.com/sterilisatieacties/gratis-sterilisatie-katten-veterinary-practice-zoetrum/2026-05-15/
LOCATION:Veterinary Practice Zoetrum\, Seru Loraweg 41\, Willemstad\, 0000CW\, Curaçao
ATTACH;FMTTYPE=image/jpeg:https://kittenrescuecuracao.com/wp-content/uploads/2026/02/zoetrum.jpg
END:VEVENT
BEGIN:VEVENT
DTSTART;VALUE=DATE:20260515
DTEND;VALUE=DATE:20260516
DTSTAMP:20260418T010853
CREATED:20260311T161429Z
LAST-MODIFIED:20260312T121413Z
UID:10000215-1778803200-1778889599@kittenrescuecuracao.com
SUMMARY:Gratis Sterilisatie Katten bij VCC Ronde Klip
DESCRIPTION:Houd er rekening mee dat je jouw kat(ten) op de dag van de afspraak moet brengen tussen 8:00 – 8:15 uur naar kliniek VCC Ronde Klip! Je kunt jouw kat(ten) dezelfde dag weer ophalen tussen 13:00 – 16:00 uur.\nTene kuenta ku lo tin ku trese bo pushi riba dia di sita den mainta na luga di opvang na kliniek VCC Ronde Klip!
URL:https://kittenrescuecuracao.com/sterilisatieacties/gratis-sterilisatie-bij-vcc-ronde-klip-2/2026-05-15/
LOCATION:VCC Ronde Klip\, Ronde Klip\, Kaminda George Willems\, Willemstad\, 0000CW\, Curaçao
ATTACH;FMTTYPE=image/jpeg:https://kittenrescuecuracao.com/wp-content/uploads/2024/05/vcc-quenny.jpg
END:VEVENT
BEGIN:VEVENT
DTSTART;VALUE=DATE:20260516
DTEND;VALUE=DATE:20260517
DTSTAMP:20260418T010853
CREATED:20260226T132703Z
LAST-MODIFIED:20260226T132703Z
UID:10000263-1778889600-1778975999@kittenrescuecuracao.com
SUMMARY:Gratis Sterilisatie katten bij Veterinary Practice Zoetrum
DESCRIPTION:Houd er rekening mee dat je jouw kat(ten) op de dag van de afspraak moet brengen tussen 8:00 – 9:00 uur naar kliniek Veterinary Practice Zoetrum! Je kunt jouw kat(ten) dezelfde dag weer ophalen.\nTene kuenta ku lo tin ku trese bo pushi riba dia di sita den mainta na luga di opvang na kliniek Veterinary Practice Zoetrum!
URL:https://kittenrescuecuracao.com/sterilisatieacties/gratis-sterilisatie-katten-bij-veterinary-practice-zoetrum-2/2026-05-16/
LOCATION:Veterinary Practice Zoetrum\, Seru Loraweg 41\, Willemstad\, 0000CW\, Curaçao
ATTACH;FMTTYPE=image/jpeg:https://kittenrescuecuracao.com/wp-content/uploads/2026/02/zoetrum.jpg
END:VEVENT
BEGIN:VEVENT
DTSTART;VALUE=DATE:20260519
DTEND;VALUE=DATE:20260520
DTSTAMP:20260418T010853
CREATED:20260226T132357Z
LAST-MODIFIED:20260226T132357Z
UID:10000232-1779148800-1779235199@kittenrescuecuracao.com
SUMMARY:Gratis Sterilisatie katten bij Veterinary Practice Zoetrum
DESCRIPTION:Houd er rekening mee dat je jouw kat(ten) op de dag van de afspraak moet brengen tussen 8:00 – 9:00 uur naar kliniek Veterinary Practice Zoetrum! Je kunt jouw kat(ten) dezelfde dag weer ophalen.\nTene kuenta ku lo tin ku trese bo pushi riba dia di sita den mainta na luga di opvang na kliniek Veterinary Practice Zoetrum!
URL:https://kittenrescuecuracao.com/sterilisatieacties/gratis-sterilisatie-katten-bij-veterinary-practice-zoetrum/2026-05-19/
LOCATION:Veterinary Practice Zoetrum\, Seru Loraweg 41\, Willemstad\, 0000CW\, Curaçao
ATTACH;FMTTYPE=image/jpeg:https://kittenrescuecuracao.com/wp-content/uploads/2026/02/zoetrum.jpg
END:VEVENT
BEGIN:VEVENT
DTSTART;VALUE=DATE:20260519
DTEND;VALUE=DATE:20260520
DTSTAMP:20260418T010853
CREATED:20260226T133128Z
LAST-MODIFIED:20260226T133128Z
UID:10000280-1779148800-1779235199@kittenrescuecuracao.com
SUMMARY:Gratis Sterilisatie katten bij VCC Ronde Klip
DESCRIPTION:Houd er rekening mee dat je jouw kat(ten) op de dag van de afspraak moet brengen tussen 8:00 – 8:15 uur naar kliniek VCC Ronde Klip! Je kunt jouw kat(ten) dezelfde dag weer ophalen tussen 13:00 – 16:00 uur.\nTene kuenta ku lo tin ku trese bo pushi riba dia di sita den mainta na luga di opvang na kliniek VCC Ronde Klip!
URL:https://kittenrescuecuracao.com/sterilisatieacties/gratis-sterilisatie-katten-bij-vcc-ronde-klip/2026-05-19/
LOCATION:VCC Ronde Klip\, Ronde Klip\, Kaminda George Willems\, Willemstad\, 0000CW\, Curaçao
ATTACH;FMTTYPE=image/jpeg:https://kittenrescuecuracao.com/wp-content/uploads/2024/05/vcc-quenny.jpg
END:VEVENT
BEGIN:VEVENT
DTSTART;VALUE=DATE:20260522
DTEND;VALUE=DATE:20260523
DTSTAMP:20260418T010853
CREATED:20260226T132537Z
LAST-MODIFIED:20260312T121454Z
UID:10000248-1779408000-1779494399@kittenrescuecuracao.com
SUMMARY:Gratis Sterilisatie katten Veterinary Practice Zoetrum
DESCRIPTION:Houd er rekening mee dat je jouw kat(ten) op de dag van de afspraak moet brengen tussen 8:00 – 9:00 uur naar kliniek Veterinary Practice Zoetrum! Je kunt jouw kat(ten) dezelfde dag weer ophalen.\nTene kuenta ku lo tin ku trese bo pushi riba dia di sita den mainta na luga di opvang na kliniek Veterinary Practice Zoetrum!
URL:https://kittenrescuecuracao.com/sterilisatieacties/gratis-sterilisatie-katten-veterinary-practice-zoetrum/2026-05-22/
LOCATION:Veterinary Practice Zoetrum\, Seru Loraweg 41\, Willemstad\, 0000CW\, Curaçao
ATTACH;FMTTYPE=image/jpeg:https://kittenrescuecuracao.com/wp-content/uploads/2026/02/zoetrum.jpg
END:VEVENT
BEGIN:VEVENT
DTSTART;VALUE=DATE:20260522
DTEND;VALUE=DATE:20260523
DTSTAMP:20260418T010853
CREATED:20260311T161429Z
LAST-MODIFIED:20260312T121413Z
UID:10000216-1779408000-1779494399@kittenrescuecuracao.com
SUMMARY:Gratis Sterilisatie Katten bij VCC Ronde Klip
DESCRIPTION:Houd er rekening mee dat je jouw kat(ten) op de dag van de afspraak moet brengen tussen 8:00 – 8:15 uur naar kliniek VCC Ronde Klip! Je kunt jouw kat(ten) dezelfde dag weer ophalen tussen 13:00 – 16:00 uur.\nTene kuenta ku lo tin ku trese bo pushi riba dia di sita den mainta na luga di opvang na kliniek VCC Ronde Klip!
URL:https://kittenrescuecuracao.com/sterilisatieacties/gratis-sterilisatie-bij-vcc-ronde-klip-2/2026-05-22/
LOCATION:VCC Ronde Klip\, Ronde Klip\, Kaminda George Willems\, Willemstad\, 0000CW\, Curaçao
ATTACH;FMTTYPE=image/jpeg:https://kittenrescuecuracao.com/wp-content/uploads/2024/05/vcc-quenny.jpg
END:VEVENT
BEGIN:VEVENT
DTSTART;VALUE=DATE:20260523
DTEND;VALUE=DATE:20260524
DTSTAMP:20260418T010853
CREATED:20260226T132703Z
LAST-MODIFIED:20260226T132703Z
UID:10000264-1779494400-1779580799@kittenrescuecuracao.com
SUMMARY:Gratis Sterilisatie katten bij Veterinary Practice Zoetrum
DESCRIPTION:Houd er rekening mee dat je jouw kat(ten) op de dag van de afspraak moet brengen tussen 8:00 – 9:00 uur naar kliniek Veterinary Practice Zoetrum! Je kunt jouw kat(ten) dezelfde dag weer ophalen.\nTene kuenta ku lo tin ku trese bo pushi riba dia di sita den mainta na luga di opvang na kliniek Veterinary Practice Zoetrum!
URL:https://kittenrescuecuracao.com/sterilisatieacties/gratis-sterilisatie-katten-bij-veterinary-practice-zoetrum-2/2026-05-23/
LOCATION:Veterinary Practice Zoetrum\, Seru Loraweg 41\, Willemstad\, 0000CW\, Curaçao
ATTACH;FMTTYPE=image/jpeg:https://kittenrescuecuracao.com/wp-content/uploads/2026/02/zoetrum.jpg
END:VEVENT
BEGIN:VEVENT
DTSTART;VALUE=DATE:20260526
DTEND;VALUE=DATE:20260527
DTSTAMP:20260418T010853
CREATED:20260226T132357Z
LAST-MODIFIED:20260226T132357Z
UID:10000233-1779753600-1779839999@kittenrescuecuracao.com
SUMMARY:Gratis Sterilisatie katten bij Veterinary Practice Zoetrum
DESCRIPTION:Houd er rekening mee dat je jouw kat(ten) op de dag van de afspraak moet brengen tussen 8:00 – 9:00 uur naar kliniek Veterinary Practice Zoetrum! Je kunt jouw kat(ten) dezelfde dag weer ophalen.\nTene kuenta ku lo tin ku trese bo pushi riba dia di sita den mainta na luga di opvang na kliniek Veterinary Practice Zoetrum!
URL:https://kittenrescuecuracao.com/sterilisatieacties/gratis-sterilisatie-katten-bij-veterinary-practice-zoetrum/2026-05-26/
LOCATION:Veterinary Practice Zoetrum\, Seru Loraweg 41\, Willemstad\, 0000CW\, Curaçao
ATTACH;FMTTYPE=image/jpeg:https://kittenrescuecuracao.com/wp-content/uploads/2026/02/zoetrum.jpg
END:VEVENT
BEGIN:VEVENT
DTSTART;VALUE=DATE:20260526
DTEND;VALUE=DATE:20260527
DTSTAMP:20260418T010853
CREATED:20260226T133128Z
LAST-MODIFIED:20260226T133128Z
UID:10000281-1779753600-1779839999@kittenrescuecuracao.com
SUMMARY:Gratis Sterilisatie katten bij VCC Ronde Klip
DESCRIPTION:Houd er rekening mee dat je jouw kat(ten) op de dag van de afspraak moet brengen tussen 8:00 – 8:15 uur naar kliniek VCC Ronde Klip! Je kunt jouw kat(ten) dezelfde dag weer ophalen tussen 13:00 – 16:00 uur.\nTene kuenta ku lo tin ku trese bo pushi riba dia di sita den mainta na luga di opvang na kliniek VCC Ronde Klip!
URL:https://kittenrescuecuracao.com/sterilisatieacties/gratis-sterilisatie-katten-bij-vcc-ronde-klip/2026-05-26/
LOCATION:VCC Ronde Klip\, Ronde Klip\, Kaminda George Willems\, Willemstad\, 0000CW\, Curaçao
ATTACH;FMTTYPE=image/jpeg:https://kittenrescuecuracao.com/wp-content/uploads/2024/05/vcc-quenny.jpg
END:VEVENT
BEGIN:VEVENT
DTSTART;VALUE=DATE:20260529
DTEND;VALUE=DATE:20260530
DTSTAMP:20260418T010853
CREATED:20260226T132537Z
LAST-MODIFIED:20260312T121454Z
UID:10000249-1780012800-1780099199@kittenrescuecuracao.com
SUMMARY:Gratis Sterilisatie katten Veterinary Practice Zoetrum
DESCRIPTION:Houd er rekening mee dat je jouw kat(ten) op de dag van de afspraak moet brengen tussen 8:00 – 9:00 uur naar kliniek Veterinary Practice Zoetrum! Je kunt jouw kat(ten) dezelfde dag weer ophalen.\nTene kuenta ku lo tin ku trese bo pushi riba dia di sita den mainta na luga di opvang na kliniek Veterinary Practice Zoetrum!
URL:https://kittenrescuecuracao.com/sterilisatieacties/gratis-sterilisatie-katten-veterinary-practice-zoetrum/2026-05-29/
LOCATION:Veterinary Practice Zoetrum\, Seru Loraweg 41\, Willemstad\, 0000CW\, Curaçao
ATTACH;FMTTYPE=image/jpeg:https://kittenrescuecuracao.com/wp-content/uploads/2026/02/zoetrum.jpg
END:VEVENT
BEGIN:VEVENT
DTSTART;VALUE=DATE:20260529
DTEND;VALUE=DATE:20260530
DTSTAMP:20260418T010853
CREATED:20260311T161429Z
LAST-MODIFIED:20260312T121413Z
UID:10000217-1780012800-1780099199@kittenrescuecuracao.com
SUMMARY:Gratis Sterilisatie Katten bij VCC Ronde Klip
DESCRIPTION:Houd er rekening mee dat je jouw kat(ten) op de dag van de afspraak moet brengen tussen 8:00 – 8:15 uur naar kliniek VCC Ronde Klip! Je kunt jouw kat(ten) dezelfde dag weer ophalen tussen 13:00 – 16:00 uur.\nTene kuenta ku lo tin ku trese bo pushi riba dia di sita den mainta na luga di opvang na kliniek VCC Ronde Klip!
URL:https://kittenrescuecuracao.com/sterilisatieacties/gratis-sterilisatie-bij-vcc-ronde-klip-2/2026-05-29/
LOCATION:VCC Ronde Klip\, Ronde Klip\, Kaminda George Willems\, Willemstad\, 0000CW\, Curaçao
ATTACH;FMTTYPE=image/jpeg:https://kittenrescuecuracao.com/wp-content/uploads/2024/05/vcc-quenny.jpg
END:VEVENT
BEGIN:VEVENT
DTSTART;VALUE=DATE:20260530
DTEND;VALUE=DATE:20260531
DTSTAMP:20260418T010853
CREATED:20260226T132703Z
LAST-MODIFIED:20260226T132703Z
UID:10000265-1780099200-1780185599@kittenrescuecuracao.com
SUMMARY:Gratis Sterilisatie katten bij Veterinary Practice Zoetrum
DESCRIPTION:Houd er rekening mee dat je jouw kat(ten) op de dag van de afspraak moet brengen tussen 8:00 – 9:00 uur naar kliniek Veterinary Practice Zoetrum! Je kunt jouw kat(ten) dezelfde dag weer ophalen.\nTene kuenta ku lo tin ku trese bo pushi riba dia di sita den mainta na luga di opvang na kliniek Veterinary Practice Zoetrum!
URL:https://kittenrescuecuracao.com/sterilisatieacties/gratis-sterilisatie-katten-bij-veterinary-practice-zoetrum-2/2026-05-30/
LOCATION:Veterinary Practice Zoetrum\, Seru Loraweg 41\, Willemstad\, 0000CW\, Curaçao
ATTACH;FMTTYPE=image/jpeg:https://kittenrescuecuracao.com/wp-content/uploads/2026/02/zoetrum.jpg
END:VEVENT
BEGIN:VEVENT
DTSTART;VALUE=DATE:20260602
DTEND;VALUE=DATE:20260603
DTSTAMP:20260418T010853
CREATED:20260226T132357Z
LAST-MODIFIED:20260226T132357Z
UID:10000234-1780358400-1780444799@kittenrescuecuracao.com
SUMMARY:Gratis Sterilisatie katten bij Veterinary Practice Zoetrum
DESCRIPTION:Houd er rekening mee dat je jouw kat(ten) op de dag van de afspraak moet brengen tussen 8:00 – 9:00 uur naar kliniek Veterinary Practice Zoetrum! Je kunt jouw kat(ten) dezelfde dag weer ophalen.\nTene kuenta ku lo tin ku trese bo pushi riba dia di sita den mainta na luga di opvang na kliniek Veterinary Practice Zoetrum!
URL:https://kittenrescuecuracao.com/sterilisatieacties/gratis-sterilisatie-katten-bij-veterinary-practice-zoetrum/2026-06-02/
LOCATION:Veterinary Practice Zoetrum\, Seru Loraweg 41\, Willemstad\, 0000CW\, Curaçao
ATTACH;FMTTYPE=image/jpeg:https://kittenrescuecuracao.com/wp-content/uploads/2026/02/zoetrum.jpg
END:VEVENT
END:VCALENDAR