BEGIN:VCALENDAR
VERSION:2.0
PRODID:-//Stichting Kitten Rescue Curacao - ECPv6.15.20//NONSGML v1.0//EN
CALSCALE:GREGORIAN
METHOD:PUBLISH
X-ORIGINAL-URL:https://kittenrescuecuracao.com
X-WR-CALDESC:Evenementen voor Stichting Kitten Rescue Curacao
REFRESH-INTERVAL;VALUE=DURATION:PT1H
X-Robots-Tag:noindex
X-PUBLISHED-TTL:PT1H
BEGIN:VTIMEZONE
TZID:UTC
BEGIN:STANDARD
TZOFFSETFROM:+0000
TZOFFSETTO:+0000
TZNAME:UTC
DTSTART:20250101T000000
END:STANDARD
END:VTIMEZONE
BEGIN:VEVENT
DTSTART;VALUE=DATE:20260414
DTEND;VALUE=DATE:20260415
DTSTAMP:20260415T055654
CREATED:20260226T133128Z
LAST-MODIFIED:20260226T133128Z
UID:10000275-1776124800-1776211199@kittenrescuecuracao.com
SUMMARY:Gratis Sterilisatie katten bij VCC Ronde Klip
DESCRIPTION:Houd er rekening mee dat je jouw kat(ten) op de dag van de afspraak moet brengen tussen 8:00 – 8:15 uur naar kliniek VCC Ronde Klip! Je kunt jouw kat(ten) dezelfde dag weer ophalen tussen 13:00 – 16:00 uur.\nTene kuenta ku lo tin ku trese bo pushi riba dia di sita den mainta na luga di opvang na kliniek VCC Ronde Klip!
URL:https://kittenrescuecuracao.com/sterilisatieacties/gratis-sterilisatie-katten-bij-vcc-ronde-klip/2026-04-14/
LOCATION:VCC Ronde Klip\, Ronde Klip\, Kaminda George Willems\, Willemstad\, 0000CW\, Curaçao
ATTACH;FMTTYPE=image/jpeg:https://kittenrescuecuracao.com/wp-content/uploads/2024/05/vcc-quenny.jpg
END:VEVENT
BEGIN:VEVENT
DTSTART;VALUE=DATE:20260410
DTEND;VALUE=DATE:20260411
DTSTAMP:20260415T055654
CREATED:20260311T161429Z
LAST-MODIFIED:20260312T121413Z
UID:10000210-1775779200-1775865599@kittenrescuecuracao.com
SUMMARY:Gratis Sterilisatie Katten bij VCC Ronde Klip
DESCRIPTION:Houd er rekening mee dat je jouw kat(ten) op de dag van de afspraak moet brengen tussen 8:00 – 8:15 uur naar kliniek VCC Ronde Klip! Je kunt jouw kat(ten) dezelfde dag weer ophalen tussen 13:00 – 16:00 uur.\nTene kuenta ku lo tin ku trese bo pushi riba dia di sita den mainta na luga di opvang na kliniek VCC Ronde Klip!
URL:https://kittenrescuecuracao.com/sterilisatieacties/gratis-sterilisatie-bij-vcc-ronde-klip-2/2026-04-10/
LOCATION:VCC Ronde Klip\, Ronde Klip\, Kaminda George Willems\, Willemstad\, 0000CW\, Curaçao
ATTACH;FMTTYPE=image/jpeg:https://kittenrescuecuracao.com/wp-content/uploads/2024/05/vcc-quenny.jpg
END:VEVENT
BEGIN:VEVENT
DTSTART;VALUE=DATE:20260407
DTEND;VALUE=DATE:20260408
DTSTAMP:20260415T055654
CREATED:20260226T133128Z
LAST-MODIFIED:20260226T133128Z
UID:10000274-1775520000-1775606399@kittenrescuecuracao.com
SUMMARY:Gratis Sterilisatie katten bij VCC Ronde Klip
DESCRIPTION:Houd er rekening mee dat je jouw kat(ten) op de dag van de afspraak moet brengen tussen 8:00 – 8:15 uur naar kliniek VCC Ronde Klip! Je kunt jouw kat(ten) dezelfde dag weer ophalen tussen 13:00 – 16:00 uur.\nTene kuenta ku lo tin ku trese bo pushi riba dia di sita den mainta na luga di opvang na kliniek VCC Ronde Klip!
URL:https://kittenrescuecuracao.com/sterilisatieacties/gratis-sterilisatie-katten-bij-vcc-ronde-klip/2026-04-07/
LOCATION:VCC Ronde Klip\, Ronde Klip\, Kaminda George Willems\, Willemstad\, 0000CW\, Curaçao
ATTACH;FMTTYPE=image/jpeg:https://kittenrescuecuracao.com/wp-content/uploads/2024/05/vcc-quenny.jpg
END:VEVENT
BEGIN:VEVENT
DTSTART;VALUE=DATE:20260331
DTEND;VALUE=DATE:20260401
DTSTAMP:20260415T055654
CREATED:20260226T133128Z
LAST-MODIFIED:20260226T133128Z
UID:10000273-1774915200-1775001599@kittenrescuecuracao.com
SUMMARY:Gratis Sterilisatie katten bij VCC Ronde Klip
DESCRIPTION:Houd er rekening mee dat je jouw kat(ten) op de dag van de afspraak moet brengen tussen 8:00 – 8:15 uur naar kliniek VCC Ronde Klip! Je kunt jouw kat(ten) dezelfde dag weer ophalen tussen 13:00 – 16:00 uur.\nTene kuenta ku lo tin ku trese bo pushi riba dia di sita den mainta na luga di opvang na kliniek VCC Ronde Klip!
URL:https://kittenrescuecuracao.com/sterilisatieacties/gratis-sterilisatie-katten-bij-vcc-ronde-klip/2026-03-31/
LOCATION:VCC Ronde Klip\, Ronde Klip\, Kaminda George Willems\, Willemstad\, 0000CW\, Curaçao
ATTACH;FMTTYPE=image/jpeg:https://kittenrescuecuracao.com/wp-content/uploads/2024/05/vcc-quenny.jpg
END:VEVENT
BEGIN:VEVENT
DTSTART;VALUE=DATE:20260327
DTEND;VALUE=DATE:20260328
DTSTAMP:20260415T055654
CREATED:20260311T161429Z
LAST-MODIFIED:20260312T121413Z
UID:10000208-1774569600-1774655999@kittenrescuecuracao.com
SUMMARY:Gratis Sterilisatie Katten bij VCC Ronde Klip
DESCRIPTION:Houd er rekening mee dat je jouw kat(ten) op de dag van de afspraak moet brengen tussen 8:00 – 8:15 uur naar kliniek VCC Ronde Klip! Je kunt jouw kat(ten) dezelfde dag weer ophalen tussen 13:00 – 16:00 uur.\nTene kuenta ku lo tin ku trese bo pushi riba dia di sita den mainta na luga di opvang na kliniek VCC Ronde Klip!
URL:https://kittenrescuecuracao.com/sterilisatieacties/gratis-sterilisatie-bij-vcc-ronde-klip-2/2026-03-27/
LOCATION:VCC Ronde Klip\, Ronde Klip\, Kaminda George Willems\, Willemstad\, 0000CW\, Curaçao
ATTACH;FMTTYPE=image/jpeg:https://kittenrescuecuracao.com/wp-content/uploads/2024/05/vcc-quenny.jpg
END:VEVENT
BEGIN:VEVENT
DTSTART;VALUE=DATE:20260324
DTEND;VALUE=DATE:20260325
DTSTAMP:20260415T055654
CREATED:20260226T133128Z
LAST-MODIFIED:20260226T133128Z
UID:10000272-1774310400-1774396799@kittenrescuecuracao.com
SUMMARY:Gratis Sterilisatie katten bij VCC Ronde Klip
DESCRIPTION:Houd er rekening mee dat je jouw kat(ten) op de dag van de afspraak moet brengen tussen 8:00 – 8:15 uur naar kliniek VCC Ronde Klip! Je kunt jouw kat(ten) dezelfde dag weer ophalen tussen 13:00 – 16:00 uur.\nTene kuenta ku lo tin ku trese bo pushi riba dia di sita den mainta na luga di opvang na kliniek VCC Ronde Klip!
URL:https://kittenrescuecuracao.com/sterilisatieacties/gratis-sterilisatie-katten-bij-vcc-ronde-klip/2026-03-24/
LOCATION:VCC Ronde Klip\, Ronde Klip\, Kaminda George Willems\, Willemstad\, 0000CW\, Curaçao
ATTACH;FMTTYPE=image/jpeg:https://kittenrescuecuracao.com/wp-content/uploads/2024/05/vcc-quenny.jpg
END:VEVENT
BEGIN:VEVENT
DTSTART;VALUE=DATE:20260320
DTEND;VALUE=DATE:20260321
DTSTAMP:20260415T055654
CREATED:20260311T161429Z
LAST-MODIFIED:20260312T121413Z
UID:10000206-1773964800-1774051199@kittenrescuecuracao.com
SUMMARY:Gratis Sterilisatie Katten bij VCC Ronde Klip
DESCRIPTION:Houd er rekening mee dat je jouw kat(ten) op de dag van de afspraak moet brengen tussen 8:00 – 8:15 uur naar kliniek VCC Ronde Klip! Je kunt jouw kat(ten) dezelfde dag weer ophalen tussen 13:00 – 16:00 uur.\nTene kuenta ku lo tin ku trese bo pushi riba dia di sita den mainta na luga di opvang na kliniek VCC Ronde Klip!
URL:https://kittenrescuecuracao.com/sterilisatieacties/gratis-sterilisatie-bij-vcc-ronde-klip-2/2026-03-20/
LOCATION:VCC Ronde Klip\, Ronde Klip\, Kaminda George Willems\, Willemstad\, 0000CW\, Curaçao
ATTACH;FMTTYPE=image/jpeg:https://kittenrescuecuracao.com/wp-content/uploads/2024/05/vcc-quenny.jpg
END:VEVENT
BEGIN:VEVENT
DTSTART;VALUE=DATE:20260317
DTEND;VALUE=DATE:20260318
DTSTAMP:20260415T055654
CREATED:20260226T133128Z
LAST-MODIFIED:20260226T133128Z
UID:10000271-1773705600-1773791999@kittenrescuecuracao.com
SUMMARY:Gratis Sterilisatie katten bij VCC Ronde Klip
DESCRIPTION:Houd er rekening mee dat je jouw kat(ten) op de dag van de afspraak moet brengen tussen 8:00 – 8:15 uur naar kliniek VCC Ronde Klip! Je kunt jouw kat(ten) dezelfde dag weer ophalen tussen 13:00 – 16:00 uur.\nTene kuenta ku lo tin ku trese bo pushi riba dia di sita den mainta na luga di opvang na kliniek VCC Ronde Klip!
URL:https://kittenrescuecuracao.com/sterilisatieacties/gratis-sterilisatie-katten-bij-vcc-ronde-klip/2026-03-17/
LOCATION:VCC Ronde Klip\, Ronde Klip\, Kaminda George Willems\, Willemstad\, 0000CW\, Curaçao
ATTACH;FMTTYPE=image/jpeg:https://kittenrescuecuracao.com/wp-content/uploads/2024/05/vcc-quenny.jpg
END:VEVENT
BEGIN:VEVENT
DTSTART;VALUE=DATE:20260310
DTEND;VALUE=DATE:20260311
DTSTAMP:20260415T055654
CREATED:20260226T133128Z
LAST-MODIFIED:20260226T133128Z
UID:10000270-1773100800-1773187199@kittenrescuecuracao.com
SUMMARY:Gratis Sterilisatie katten bij VCC Ronde Klip
DESCRIPTION:Houd er rekening mee dat je jouw kat(ten) op de dag van de afspraak moet brengen tussen 8:00 – 8:15 uur naar kliniek VCC Ronde Klip! Je kunt jouw kat(ten) dezelfde dag weer ophalen tussen 13:00 – 16:00 uur.\nTene kuenta ku lo tin ku trese bo pushi riba dia di sita den mainta na luga di opvang na kliniek VCC Ronde Klip!
URL:https://kittenrescuecuracao.com/sterilisatieacties/gratis-sterilisatie-katten-bij-vcc-ronde-klip/2026-03-10/
LOCATION:VCC Ronde Klip\, Ronde Klip\, Kaminda George Willems\, Willemstad\, 0000CW\, Curaçao
ATTACH;FMTTYPE=image/jpeg:https://kittenrescuecuracao.com/wp-content/uploads/2024/05/vcc-quenny.jpg
END:VEVENT
BEGIN:VEVENT
DTSTART;VALUE=DATE:20260306
DTEND;VALUE=DATE:20260307
DTSTAMP:20260415T055654
CREATED:20260226T132035Z
LAST-MODIFIED:20260306T121633Z
UID:10000205-1772755200-1772841599@kittenrescuecuracao.com
SUMMARY:Gratis Sterilisatie Katten bij VCC Ronde Klip
DESCRIPTION:Houd er rekening mee dat je jouw kat(ten) op de dag van de afspraak moet brengen tussen 8:00 – 8:15 uur naar kliniek VCC Ronde Klip! Je kunt jouw kat(ten) dezelfde dag weer ophalen tussen 13:00 – 16:00 uur.\nTene kuenta ku lo tin ku trese bo pushi riba dia di sita den mainta na luga di opvang na kliniek VCC Ronde Klip!
URL:https://kittenrescuecuracao.com/sterilisatieacties/gratis-sterilisatie-bij-vcc-ronde-klip/
LOCATION:VCC Ronde Klip\, Ronde Klip\, Kaminda George Willems\, Willemstad\, 0000CW\, Curaçao
ATTACH;FMTTYPE=image/jpeg:https://kittenrescuecuracao.com/wp-content/uploads/2024/05/vcc-quenny.jpg
END:VEVENT
BEGIN:VEVENT
DTSTART;VALUE=DATE:20260303
DTEND;VALUE=DATE:20260304
DTSTAMP:20260415T055654
CREATED:20260226T133128Z
LAST-MODIFIED:20260226T133128Z
UID:10000269-1772496000-1772582399@kittenrescuecuracao.com
SUMMARY:Gratis Sterilisatie katten bij VCC Ronde Klip
DESCRIPTION:Houd er rekening mee dat je jouw kat(ten) op de dag van de afspraak moet brengen tussen 8:00 – 8:15 uur naar kliniek VCC Ronde Klip! Je kunt jouw kat(ten) dezelfde dag weer ophalen tussen 13:00 – 16:00 uur.\nTene kuenta ku lo tin ku trese bo pushi riba dia di sita den mainta na luga di opvang na kliniek VCC Ronde Klip!
URL:https://kittenrescuecuracao.com/sterilisatieacties/gratis-sterilisatie-katten-bij-vcc-ronde-klip/2026-03-03/
LOCATION:VCC Ronde Klip\, Ronde Klip\, Kaminda George Willems\, Willemstad\, 0000CW\, Curaçao
ATTACH;FMTTYPE=image/jpeg:https://kittenrescuecuracao.com/wp-content/uploads/2024/05/vcc-quenny.jpg
END:VEVENT
BEGIN:VEVENT
DTSTART;VALUE=DATE:20260227
DTEND;VALUE=DATE:20260228
DTSTAMP:20260415T055654
CREATED:20251129T104028Z
LAST-MODIFIED:20251129T104028Z
UID:10000176-1772150400-1772236799@kittenrescuecuracao.com
SUMMARY:Gratis Sterilisatie kat op vrijdag 27-02-2026 | VCC Ronde Klip
DESCRIPTION:Houd er rekening mee dat je jouw kat(ten) op de dag van de afspraak moet brengen tussen 8:00 – 8:15 uur naar kliniek VCC Ronde Klip! Je kunt jouw kat(ten) dezelfde dag weer ophalen tussen 13:00 – 16:00 uur.\nTene kuenta ku lo tin ku trese bo pushi riba dia di sita den mainta na luga di opvang na kliniek VCC Ronde Klip!
URL:https://kittenrescuecuracao.com/sterilisatieacties/gratis-sterilisatie-kat-op-vrijdag-27-02-2026-vcc-ronde-klip/
LOCATION:VCC Ronde Klip\, Ronde Klip\, Kaminda George Willems\, Willemstad\, 0000CW\, Curaçao
ATTACH;FMTTYPE=image/jpeg:https://kittenrescuecuracao.com/wp-content/uploads/2024/05/vcc-quenny.jpg
END:VEVENT
BEGIN:VEVENT
DTSTART;VALUE=DATE:20260224
DTEND;VALUE=DATE:20260225
DTSTAMP:20260415T055654
CREATED:20260114T123450Z
LAST-MODIFIED:20260114T123450Z
UID:10000180-1771891200-1771977599@kittenrescuecuracao.com
SUMMARY:Gratis Sterilisatie kat op dinsdag 24-02-2026 | VCC Ronde Klip
DESCRIPTION:Houd er rekening mee dat je jouw kat(ten) op de dag van de afspraak moet brengen tussen 8:00 – 8:15 uur naar kliniek VCC Ronde Klip! Je kunt jouw kat(ten) dezelfde dag weer ophalen tussen 13:00 – 16:00 uur.\nTene kuenta ku lo tin ku trese bo pushi riba dia di sita den mainta na luga di opvang na kliniek VCC Ronde Klip!
URL:https://kittenrescuecuracao.com/sterilisatieacties/gratis-sterilisatie-kat-op-dinsdag-24-02-2026-vcc-ronde-klip/
LOCATION:VCC Ronde Klip\, Ronde Klip\, Kaminda George Willems\, Willemstad\, 0000CW\, Curaçao
ATTACH;FMTTYPE=image/jpeg:https://kittenrescuecuracao.com/wp-content/uploads/2024/05/vcc-quenny.jpg
END:VEVENT
BEGIN:VEVENT
DTSTART;VALUE=DATE:20260220
DTEND;VALUE=DATE:20260221
DTSTAMP:20260415T055654
CREATED:20251129T103957Z
LAST-MODIFIED:20260204T205438Z
UID:10000175-1771545600-1771631999@kittenrescuecuracao.com
SUMMARY:VOL!!! - Gratis Sterilisatie kat op vrijdag 20-02-2026 | VCC Ronde Klip
DESCRIPTION:Houd er rekening mee dat je jouw kat(ten) op de dag van de afspraak moet brengen tussen 8:00 – 8:15 uur naar kliniek VCC Ronde Klip! Je kunt jouw kat(ten) dezelfde dag weer ophalen tussen 13:00 – 16:00 uur.\nTene kuenta ku lo tin ku trese bo pushi riba dia di sita den mainta na luga di opvang na kliniek VCC Ronde Klip!
URL:https://kittenrescuecuracao.com/sterilisatieacties/gratis-sterilisatie-kat-op-vrijdag-20-02-2026-vcc-ronde-klip/
LOCATION:VCC Ronde Klip\, Ronde Klip\, Kaminda George Willems\, Willemstad\, 0000CW\, Curaçao
ATTACH;FMTTYPE=image/jpeg:https://kittenrescuecuracao.com/wp-content/uploads/2024/05/vcc-quenny.jpg
END:VEVENT
BEGIN:VEVENT
DTSTART;VALUE=DATE:20260217
DTEND;VALUE=DATE:20260218
DTSTAMP:20260415T055654
CREATED:20260114T123404Z
LAST-MODIFIED:20260204T205413Z
UID:10000179-1771286400-1771372799@kittenrescuecuracao.com
SUMMARY:VOL!!! - Gratis Sterilisatie kat op dinsdag 17-02-2026 | VCC Ronde Klip
DESCRIPTION:Houd er rekening mee dat je jouw kat(ten) op de dag van de afspraak moet brengen tussen 8:00 – 8:15 uur naar kliniek VCC Ronde Klip! Je kunt jouw kat(ten) dezelfde dag weer ophalen tussen 13:00 – 16:00 uur.\nTene kuenta ku lo tin ku trese bo pushi riba dia di sita den mainta na luga di opvang na kliniek VCC Ronde Klip!
URL:https://kittenrescuecuracao.com/sterilisatieacties/gratis-sterilisatie-kat-op-dinsdag-17-02-2026-vcc-ronde-klip/
LOCATION:VCC Ronde Klip\, Ronde Klip\, Kaminda George Willems\, Willemstad\, 0000CW\, Curaçao
ATTACH;FMTTYPE=image/jpeg:https://kittenrescuecuracao.com/wp-content/uploads/2024/05/vcc-quenny.jpg
END:VEVENT
BEGIN:VEVENT
DTSTART;VALUE=DATE:20260213
DTEND;VALUE=DATE:20260214
DTSTAMP:20260415T055654
CREATED:20251129T103924Z
LAST-MODIFIED:20260204T205345Z
UID:10000174-1770940800-1771027199@kittenrescuecuracao.com
SUMMARY:VOL !!! - Gratis Sterilisatie kat op vrijdag 13-02-2026 | VCC Ronde Klip
DESCRIPTION:Houd er rekening mee dat je jouw kat(ten) op de dag van de afspraak moet brengen tussen 8:00 – 8:15 uur naar kliniek VCC Ronde Klip! Je kunt jouw kat(ten) dezelfde dag weer ophalen tussen 13:00 – 16:00 uur.\nTene kuenta ku lo tin ku trese bo pushi riba dia di sita den mainta na luga di opvang na kliniek VCC Ronde Klip!
URL:https://kittenrescuecuracao.com/sterilisatieacties/gratis-sterilisatie-kat-op-vrijdag-13-02-2026-vcc-ronde-klip/
LOCATION:VCC Ronde Klip\, Ronde Klip\, Kaminda George Willems\, Willemstad\, 0000CW\, Curaçao
ATTACH;FMTTYPE=image/jpeg:https://kittenrescuecuracao.com/wp-content/uploads/2024/05/vcc-quenny.jpg
END:VEVENT
BEGIN:VEVENT
DTSTART;VALUE=DATE:20260210
DTEND;VALUE=DATE:20260211
DTSTAMP:20260415T055654
CREATED:20260114T123325Z
LAST-MODIFIED:20260128T115542Z
UID:10000178-1770681600-1770767999@kittenrescuecuracao.com
SUMMARY:VOL !!! - Gratis Sterilisatie kat op dinsdag 10-02-2026 | VCC Ronde Klip
DESCRIPTION:Houd er rekening mee dat je jouw kat(ten) op de dag van de afspraak moet brengen tussen 8:00 – 8:15 uur naar kliniek VCC Ronde Klip! Je kunt jouw kat(ten) dezelfde dag weer ophalen tussen 13:00 – 16:00 uur.\nTene kuenta ku lo tin ku trese bo pushi riba dia di sita den mainta na luga di opvang na kliniek VCC Ronde Klip!
URL:https://kittenrescuecuracao.com/sterilisatieacties/gratis-sterilisatie-kat-op-dinsdag-10-02-2026-vcc-ronde-klip/
LOCATION:VCC Ronde Klip\, Ronde Klip\, Kaminda George Willems\, Willemstad\, 0000CW\, Curaçao
ATTACH;FMTTYPE=image/jpeg:https://kittenrescuecuracao.com/wp-content/uploads/2024/05/vcc-quenny.jpg
END:VEVENT
BEGIN:VEVENT
DTSTART;VALUE=DATE:20260206
DTEND;VALUE=DATE:20260207
DTSTAMP:20260415T055654
CREATED:20251129T103852Z
LAST-MODIFIED:20260128T115703Z
UID:10000173-1770336000-1770422399@kittenrescuecuracao.com
SUMMARY:VOL !!! - Gratis Sterilisatie kat op vrijdag 06-02-2026 | VCC Ronde Klip
DESCRIPTION:Houd er rekening mee dat je jouw kat(ten) op de dag van de afspraak moet brengen tussen 8:00 – 8:15 uur naar kliniek VCC Ronde Klip! Je kunt jouw kat(ten) dezelfde dag weer ophalen tussen 13:00 – 16:00 uur.\nTene kuenta ku lo tin ku trese bo pushi riba dia di sita den mainta na luga di opvang na kliniek VCC Ronde Klip!
URL:https://kittenrescuecuracao.com/sterilisatieacties/gratis-sterilisatie-kat-op-vrijdag-06-02-2026-vcc-ronde-klip/
LOCATION:VCC Ronde Klip\, Ronde Klip\, Kaminda George Willems\, Willemstad\, 0000CW\, Curaçao
ATTACH;FMTTYPE=image/jpeg:https://kittenrescuecuracao.com/wp-content/uploads/2024/05/vcc-quenny.jpg
END:VEVENT
BEGIN:VEVENT
DTSTART;VALUE=DATE:20260203
DTEND;VALUE=DATE:20260204
DTSTAMP:20260415T055654
CREATED:20260114T123143Z
LAST-MODIFIED:20260121T031951Z
UID:10000177-1770076800-1770163199@kittenrescuecuracao.com
SUMMARY:VOL!!! - Gratis Sterilisatie kat op dinsdag 03-02-2026 | VCC Ronde Klip
DESCRIPTION:Houd er rekening mee dat je jouw kat(ten) op de dag van de afspraak moet brengen tussen 8:00 – 8:15 uur naar kliniek VCC Ronde Klip! Je kunt jouw kat(ten) dezelfde dag weer ophalen tussen 13:00 – 16:00 uur.\nTene kuenta ku lo tin ku trese bo pushi riba dia di sita den mainta na luga di opvang na kliniek VCC Ronde Klip!
URL:https://kittenrescuecuracao.com/sterilisatieacties/gratis-sterilisatie-kat-op-dinsdag-03-02-2026-vcc-ronde-klip/
LOCATION:VCC Ronde Klip\, Ronde Klip\, Kaminda George Willems\, Willemstad\, 0000CW\, Curaçao
ATTACH;FMTTYPE=image/jpeg:https://kittenrescuecuracao.com/wp-content/uploads/2024/05/vcc-quenny.jpg
END:VEVENT
BEGIN:VEVENT
DTSTART;VALUE=DATE:20260130
DTEND;VALUE=DATE:20260131
DTSTAMP:20260415T055654
CREATED:20251129T103816Z
LAST-MODIFIED:20260128T115751Z
UID:10000172-1769731200-1769817599@kittenrescuecuracao.com
SUMMARY:VOL !!! - Gratis Sterilisatie kat op vrijdag 30-01-2026 | VCC Ronde Klip
DESCRIPTION:Houd er rekening mee dat je jouw kat(ten) op de dag van de afspraak moet brengen tussen 8:00 – 8:15 uur naar kliniek VCC Ronde Klip! Je kunt jouw kat(ten) dezelfde dag weer ophalen tussen 13:00 – 16:00 uur.\nTene kuenta ku lo tin ku trese bo pushi riba dia di sita den mainta na luga di opvang na kliniek VCC Ronde Klip!
URL:https://kittenrescuecuracao.com/sterilisatieacties/gratis-sterilisatie-kat-op-vrijdag-30-01-2026-vcc-ronde-klip/
LOCATION:VCC Ronde Klip\, Ronde Klip\, Kaminda George Willems\, Willemstad\, 0000CW\, Curaçao
ATTACH;FMTTYPE=image/jpeg:https://kittenrescuecuracao.com/wp-content/uploads/2024/05/vcc-quenny.jpg
END:VEVENT
BEGIN:VEVENT
DTSTART;VALUE=DATE:20260123
DTEND;VALUE=DATE:20260124
DTSTAMP:20260415T055654
CREATED:20251129T103734Z
LAST-MODIFIED:20260114T222249Z
UID:10000171-1769126400-1769212799@kittenrescuecuracao.com
SUMMARY:VOL!!! Gratis Sterilisatie kat op vrijdag 23-01-2026 | VCC Ronde Klip
DESCRIPTION:Houd er rekening mee dat je jouw kat(ten) op de dag van de afspraak moet brengen tussen 8:00 – 8:15 uur naar kliniek VCC Ronde Klip! Je kunt jouw kat(ten) dezelfde dag weer ophalen tussen 13:00 – 16:00 uur.\nTene kuenta ku lo tin ku trese bo pushi riba dia di sita den mainta na luga di opvang na kliniek VCC Ronde Klip!
URL:https://kittenrescuecuracao.com/sterilisatieacties/gratis-sterilisatie-kat-op-vrijdag-23-01-2026-vcc-ronde-klip/
LOCATION:VCC Ronde Klip\, Ronde Klip\, Kaminda George Willems\, Willemstad\, 0000CW\, Curaçao
ATTACH;FMTTYPE=image/jpeg:https://kittenrescuecuracao.com/wp-content/uploads/2024/05/vcc-quenny.jpg
END:VEVENT
BEGIN:VEVENT
DTSTART;VALUE=DATE:20260116
DTEND;VALUE=DATE:20260117
DTSTAMP:20260415T055654
CREATED:20251129T103654Z
LAST-MODIFIED:20260110T121632Z
UID:10000170-1768521600-1768607999@kittenrescuecuracao.com
SUMMARY:VOL!! - Gratis Sterilisatie kat op vrijdag 16-01-2026 | VCC Ronde Klip
DESCRIPTION:Houd er rekening mee dat je jouw kat(ten) op de dag van de afspraak moet brengen tussen 8:00 – 8:15 uur naar kliniek VCC Ronde Klip! Je kunt jouw kat(ten) dezelfde dag weer ophalen tussen 13:00 – 16:00 uur.\nTene kuenta ku lo tin ku trese bo pushi riba dia di sita den mainta na luga di opvang na kliniek VCC Ronde Klip!
URL:https://kittenrescuecuracao.com/sterilisatieacties/gratis-sterilisatie-kat-op-vrijdag-16-01-2026-vcc-ronde-klip/
LOCATION:VCC Ronde Klip\, Ronde Klip\, Kaminda George Willems\, Willemstad\, 0000CW\, Curaçao
ATTACH;FMTTYPE=image/jpeg:https://kittenrescuecuracao.com/wp-content/uploads/2024/05/vcc-quenny.jpg
END:VEVENT
END:VCALENDAR