BEGIN:VCALENDAR
VERSION:2.0
PRODID:-//Stichting Kitten Rescue Curacao - ECPv6.15.20//NONSGML v1.0//EN
CALSCALE:GREGORIAN
METHOD:PUBLISH
X-ORIGINAL-URL:https://kittenrescuecuracao.com
X-WR-CALDESC:Evenementen voor Stichting Kitten Rescue Curacao
REFRESH-INTERVAL;VALUE=DURATION:PT1H
X-Robots-Tag:noindex
X-PUBLISHED-TTL:PT1H
BEGIN:VTIMEZONE
TZID:UTC
BEGIN:STANDARD
TZOFFSETFROM:+0000
TZOFFSETTO:+0000
TZNAME:UTC
DTSTART:20250101T000000
END:STANDARD
END:VTIMEZONE
BEGIN:VEVENT
DTSTART;VALUE=DATE:20260421
DTEND;VALUE=DATE:20260422
DTSTAMP:20260424T103757
CREATED:20260226T132357Z
LAST-MODIFIED:20260226T132357Z
UID:10000228-1776729600-1776815999@kittenrescuecuracao.com
SUMMARY:Gratis Sterilisatie katten bij Veterinary Practice Zoetrum
DESCRIPTION:Houd er rekening mee dat je jouw kat(ten) op de dag van de afspraak moet brengen tussen 8:00 – 9:00 uur naar kliniek Veterinary Practice Zoetrum! Je kunt jouw kat(ten) dezelfde dag weer ophalen.\nTene kuenta ku lo tin ku trese bo pushi riba dia di sita den mainta na luga di opvang na kliniek Veterinary Practice Zoetrum!
URL:https://kittenrescuecuracao.com/sterilisatieacties/gratis-sterilisatie-katten-bij-veterinary-practice-zoetrum/2026-04-21/
LOCATION:Veterinary Practice Zoetrum\, Seru Loraweg 41\, Willemstad\, 0000CW\, Curaçao
ATTACH;FMTTYPE=image/jpeg:https://kittenrescuecuracao.com/wp-content/uploads/2026/02/zoetrum.jpg
END:VEVENT
BEGIN:VEVENT
DTSTART;VALUE=DATE:20260418
DTEND;VALUE=DATE:20260419
DTSTAMP:20260424T103757
CREATED:20260226T132703Z
LAST-MODIFIED:20260226T132703Z
UID:10000259-1776470400-1776556799@kittenrescuecuracao.com
SUMMARY:Gratis Sterilisatie katten bij Veterinary Practice Zoetrum
DESCRIPTION:Houd er rekening mee dat je jouw kat(ten) op de dag van de afspraak moet brengen tussen 8:00 – 9:00 uur naar kliniek Veterinary Practice Zoetrum! Je kunt jouw kat(ten) dezelfde dag weer ophalen.\nTene kuenta ku lo tin ku trese bo pushi riba dia di sita den mainta na luga di opvang na kliniek Veterinary Practice Zoetrum!
URL:https://kittenrescuecuracao.com/sterilisatieacties/gratis-sterilisatie-katten-bij-veterinary-practice-zoetrum-2/2026-04-18/
LOCATION:Veterinary Practice Zoetrum\, Seru Loraweg 41\, Willemstad\, 0000CW\, Curaçao
ATTACH;FMTTYPE=image/jpeg:https://kittenrescuecuracao.com/wp-content/uploads/2026/02/zoetrum.jpg
END:VEVENT
BEGIN:VEVENT
DTSTART;VALUE=DATE:20260417
DTEND;VALUE=DATE:20260418
DTSTAMP:20260424T103757
CREATED:20260226T132537Z
LAST-MODIFIED:20260312T121454Z
UID:10000243-1776384000-1776470399@kittenrescuecuracao.com
SUMMARY:Gratis Sterilisatie katten Veterinary Practice Zoetrum
DESCRIPTION:Houd er rekening mee dat je jouw kat(ten) op de dag van de afspraak moet brengen tussen 8:00 – 9:00 uur naar kliniek Veterinary Practice Zoetrum! Je kunt jouw kat(ten) dezelfde dag weer ophalen.\nTene kuenta ku lo tin ku trese bo pushi riba dia di sita den mainta na luga di opvang na kliniek Veterinary Practice Zoetrum!
URL:https://kittenrescuecuracao.com/sterilisatieacties/gratis-sterilisatie-katten-veterinary-practice-zoetrum/2026-04-17/
LOCATION:Veterinary Practice Zoetrum\, Seru Loraweg 41\, Willemstad\, 0000CW\, Curaçao
ATTACH;FMTTYPE=image/jpeg:https://kittenrescuecuracao.com/wp-content/uploads/2026/02/zoetrum.jpg
END:VEVENT
BEGIN:VEVENT
DTSTART;VALUE=DATE:20260414
DTEND;VALUE=DATE:20260415
DTSTAMP:20260424T103757
CREATED:20260226T132357Z
LAST-MODIFIED:20260226T132357Z
UID:10000227-1776124800-1776211199@kittenrescuecuracao.com
SUMMARY:Gratis Sterilisatie katten bij Veterinary Practice Zoetrum
DESCRIPTION:Houd er rekening mee dat je jouw kat(ten) op de dag van de afspraak moet brengen tussen 8:00 – 9:00 uur naar kliniek Veterinary Practice Zoetrum! Je kunt jouw kat(ten) dezelfde dag weer ophalen.\nTene kuenta ku lo tin ku trese bo pushi riba dia di sita den mainta na luga di opvang na kliniek Veterinary Practice Zoetrum!
URL:https://kittenrescuecuracao.com/sterilisatieacties/gratis-sterilisatie-katten-bij-veterinary-practice-zoetrum/2026-04-14/
LOCATION:Veterinary Practice Zoetrum\, Seru Loraweg 41\, Willemstad\, 0000CW\, Curaçao
ATTACH;FMTTYPE=image/jpeg:https://kittenrescuecuracao.com/wp-content/uploads/2026/02/zoetrum.jpg
END:VEVENT
BEGIN:VEVENT
DTSTART;VALUE=DATE:20260411
DTEND;VALUE=DATE:20260412
DTSTAMP:20260424T103757
CREATED:20260226T132703Z
LAST-MODIFIED:20260226T132703Z
UID:10000258-1775865600-1775951999@kittenrescuecuracao.com
SUMMARY:Gratis Sterilisatie katten bij Veterinary Practice Zoetrum
DESCRIPTION:Houd er rekening mee dat je jouw kat(ten) op de dag van de afspraak moet brengen tussen 8:00 – 9:00 uur naar kliniek Veterinary Practice Zoetrum! Je kunt jouw kat(ten) dezelfde dag weer ophalen.\nTene kuenta ku lo tin ku trese bo pushi riba dia di sita den mainta na luga di opvang na kliniek Veterinary Practice Zoetrum!
URL:https://kittenrescuecuracao.com/sterilisatieacties/gratis-sterilisatie-katten-bij-veterinary-practice-zoetrum-2/2026-04-11/
LOCATION:Veterinary Practice Zoetrum\, Seru Loraweg 41\, Willemstad\, 0000CW\, Curaçao
ATTACH;FMTTYPE=image/jpeg:https://kittenrescuecuracao.com/wp-content/uploads/2026/02/zoetrum.jpg
END:VEVENT
BEGIN:VEVENT
DTSTART;VALUE=DATE:20260410
DTEND;VALUE=DATE:20260411
DTSTAMP:20260424T103757
CREATED:20260226T132537Z
LAST-MODIFIED:20260312T121454Z
UID:10000242-1775779200-1775865599@kittenrescuecuracao.com
SUMMARY:Gratis Sterilisatie katten Veterinary Practice Zoetrum
DESCRIPTION:Houd er rekening mee dat je jouw kat(ten) op de dag van de afspraak moet brengen tussen 8:00 – 9:00 uur naar kliniek Veterinary Practice Zoetrum! Je kunt jouw kat(ten) dezelfde dag weer ophalen.\nTene kuenta ku lo tin ku trese bo pushi riba dia di sita den mainta na luga di opvang na kliniek Veterinary Practice Zoetrum!
URL:https://kittenrescuecuracao.com/sterilisatieacties/gratis-sterilisatie-katten-veterinary-practice-zoetrum/2026-04-10/
LOCATION:Veterinary Practice Zoetrum\, Seru Loraweg 41\, Willemstad\, 0000CW\, Curaçao
ATTACH;FMTTYPE=image/jpeg:https://kittenrescuecuracao.com/wp-content/uploads/2026/02/zoetrum.jpg
END:VEVENT
BEGIN:VEVENT
DTSTART;VALUE=DATE:20260407
DTEND;VALUE=DATE:20260408
DTSTAMP:20260424T103757
CREATED:20260226T132357Z
LAST-MODIFIED:20260226T132357Z
UID:10000226-1775520000-1775606399@kittenrescuecuracao.com
SUMMARY:Gratis Sterilisatie katten bij Veterinary Practice Zoetrum
DESCRIPTION:Houd er rekening mee dat je jouw kat(ten) op de dag van de afspraak moet brengen tussen 8:00 – 9:00 uur naar kliniek Veterinary Practice Zoetrum! Je kunt jouw kat(ten) dezelfde dag weer ophalen.\nTene kuenta ku lo tin ku trese bo pushi riba dia di sita den mainta na luga di opvang na kliniek Veterinary Practice Zoetrum!
URL:https://kittenrescuecuracao.com/sterilisatieacties/gratis-sterilisatie-katten-bij-veterinary-practice-zoetrum/2026-04-07/
LOCATION:Veterinary Practice Zoetrum\, Seru Loraweg 41\, Willemstad\, 0000CW\, Curaçao
ATTACH;FMTTYPE=image/jpeg:https://kittenrescuecuracao.com/wp-content/uploads/2026/02/zoetrum.jpg
END:VEVENT
BEGIN:VEVENT
DTSTART;VALUE=DATE:20260404
DTEND;VALUE=DATE:20260405
DTSTAMP:20260424T103757
CREATED:20260226T132703Z
LAST-MODIFIED:20260226T132703Z
UID:10000257-1775260800-1775347199@kittenrescuecuracao.com
SUMMARY:Gratis Sterilisatie katten bij Veterinary Practice Zoetrum
DESCRIPTION:Houd er rekening mee dat je jouw kat(ten) op de dag van de afspraak moet brengen tussen 8:00 – 9:00 uur naar kliniek Veterinary Practice Zoetrum! Je kunt jouw kat(ten) dezelfde dag weer ophalen.\nTene kuenta ku lo tin ku trese bo pushi riba dia di sita den mainta na luga di opvang na kliniek Veterinary Practice Zoetrum!
URL:https://kittenrescuecuracao.com/sterilisatieacties/gratis-sterilisatie-katten-bij-veterinary-practice-zoetrum-2/2026-04-04/
LOCATION:Veterinary Practice Zoetrum\, Seru Loraweg 41\, Willemstad\, 0000CW\, Curaçao
ATTACH;FMTTYPE=image/jpeg:https://kittenrescuecuracao.com/wp-content/uploads/2026/02/zoetrum.jpg
END:VEVENT
BEGIN:VEVENT
DTSTART;VALUE=DATE:20260331
DTEND;VALUE=DATE:20260401
DTSTAMP:20260424T103757
CREATED:20260226T132357Z
LAST-MODIFIED:20260226T132357Z
UID:10000225-1774915200-1775001599@kittenrescuecuracao.com
SUMMARY:Gratis Sterilisatie katten bij Veterinary Practice Zoetrum
DESCRIPTION:Houd er rekening mee dat je jouw kat(ten) op de dag van de afspraak moet brengen tussen 8:00 – 9:00 uur naar kliniek Veterinary Practice Zoetrum! Je kunt jouw kat(ten) dezelfde dag weer ophalen.\nTene kuenta ku lo tin ku trese bo pushi riba dia di sita den mainta na luga di opvang na kliniek Veterinary Practice Zoetrum!
URL:https://kittenrescuecuracao.com/sterilisatieacties/gratis-sterilisatie-katten-bij-veterinary-practice-zoetrum/2026-03-31/
LOCATION:Veterinary Practice Zoetrum\, Seru Loraweg 41\, Willemstad\, 0000CW\, Curaçao
ATTACH;FMTTYPE=image/jpeg:https://kittenrescuecuracao.com/wp-content/uploads/2026/02/zoetrum.jpg
END:VEVENT
BEGIN:VEVENT
DTSTART;VALUE=DATE:20260328
DTEND;VALUE=DATE:20260329
DTSTAMP:20260424T103757
CREATED:20260226T132703Z
LAST-MODIFIED:20260226T132703Z
UID:10000256-1774656000-1774742399@kittenrescuecuracao.com
SUMMARY:Gratis Sterilisatie katten bij Veterinary Practice Zoetrum
DESCRIPTION:Houd er rekening mee dat je jouw kat(ten) op de dag van de afspraak moet brengen tussen 8:00 – 9:00 uur naar kliniek Veterinary Practice Zoetrum! Je kunt jouw kat(ten) dezelfde dag weer ophalen.\nTene kuenta ku lo tin ku trese bo pushi riba dia di sita den mainta na luga di opvang na kliniek Veterinary Practice Zoetrum!
URL:https://kittenrescuecuracao.com/sterilisatieacties/gratis-sterilisatie-katten-bij-veterinary-practice-zoetrum-2/2026-03-28/
LOCATION:Veterinary Practice Zoetrum\, Seru Loraweg 41\, Willemstad\, 0000CW\, Curaçao
ATTACH;FMTTYPE=image/jpeg:https://kittenrescuecuracao.com/wp-content/uploads/2026/02/zoetrum.jpg
END:VEVENT
BEGIN:VEVENT
DTSTART;VALUE=DATE:20260327
DTEND;VALUE=DATE:20260328
DTSTAMP:20260424T103757
CREATED:20260226T132537Z
LAST-MODIFIED:20260312T121454Z
UID:10000240-1774569600-1774655999@kittenrescuecuracao.com
SUMMARY:Gratis Sterilisatie katten Veterinary Practice Zoetrum
DESCRIPTION:Houd er rekening mee dat je jouw kat(ten) op de dag van de afspraak moet brengen tussen 8:00 – 9:00 uur naar kliniek Veterinary Practice Zoetrum! Je kunt jouw kat(ten) dezelfde dag weer ophalen.\nTene kuenta ku lo tin ku trese bo pushi riba dia di sita den mainta na luga di opvang na kliniek Veterinary Practice Zoetrum!
URL:https://kittenrescuecuracao.com/sterilisatieacties/gratis-sterilisatie-katten-veterinary-practice-zoetrum/2026-03-27/
LOCATION:Veterinary Practice Zoetrum\, Seru Loraweg 41\, Willemstad\, 0000CW\, Curaçao
ATTACH;FMTTYPE=image/jpeg:https://kittenrescuecuracao.com/wp-content/uploads/2026/02/zoetrum.jpg
END:VEVENT
BEGIN:VEVENT
DTSTART;VALUE=DATE:20260324
DTEND;VALUE=DATE:20260325
DTSTAMP:20260424T103757
CREATED:20260226T132357Z
LAST-MODIFIED:20260226T132357Z
UID:10000224-1774310400-1774396799@kittenrescuecuracao.com
SUMMARY:Gratis Sterilisatie katten bij Veterinary Practice Zoetrum
DESCRIPTION:Houd er rekening mee dat je jouw kat(ten) op de dag van de afspraak moet brengen tussen 8:00 – 9:00 uur naar kliniek Veterinary Practice Zoetrum! Je kunt jouw kat(ten) dezelfde dag weer ophalen.\nTene kuenta ku lo tin ku trese bo pushi riba dia di sita den mainta na luga di opvang na kliniek Veterinary Practice Zoetrum!
URL:https://kittenrescuecuracao.com/sterilisatieacties/gratis-sterilisatie-katten-bij-veterinary-practice-zoetrum/2026-03-24/
LOCATION:Veterinary Practice Zoetrum\, Seru Loraweg 41\, Willemstad\, 0000CW\, Curaçao
ATTACH;FMTTYPE=image/jpeg:https://kittenrescuecuracao.com/wp-content/uploads/2026/02/zoetrum.jpg
END:VEVENT
BEGIN:VEVENT
DTSTART;VALUE=DATE:20260321
DTEND;VALUE=DATE:20260322
DTSTAMP:20260424T103757
CREATED:20260226T132703Z
LAST-MODIFIED:20260226T132703Z
UID:10000255-1774051200-1774137599@kittenrescuecuracao.com
SUMMARY:Gratis Sterilisatie katten bij Veterinary Practice Zoetrum
DESCRIPTION:Houd er rekening mee dat je jouw kat(ten) op de dag van de afspraak moet brengen tussen 8:00 – 9:00 uur naar kliniek Veterinary Practice Zoetrum! Je kunt jouw kat(ten) dezelfde dag weer ophalen.\nTene kuenta ku lo tin ku trese bo pushi riba dia di sita den mainta na luga di opvang na kliniek Veterinary Practice Zoetrum!
URL:https://kittenrescuecuracao.com/sterilisatieacties/gratis-sterilisatie-katten-bij-veterinary-practice-zoetrum-2/2026-03-21/
LOCATION:Veterinary Practice Zoetrum\, Seru Loraweg 41\, Willemstad\, 0000CW\, Curaçao
ATTACH;FMTTYPE=image/jpeg:https://kittenrescuecuracao.com/wp-content/uploads/2026/02/zoetrum.jpg
END:VEVENT
BEGIN:VEVENT
DTSTART;VALUE=DATE:20260320
DTEND;VALUE=DATE:20260321
DTSTAMP:20260424T103757
CREATED:20260226T132537Z
LAST-MODIFIED:20260312T121454Z
UID:10000239-1773964800-1774051199@kittenrescuecuracao.com
SUMMARY:Gratis Sterilisatie katten Veterinary Practice Zoetrum
DESCRIPTION:Houd er rekening mee dat je jouw kat(ten) op de dag van de afspraak moet brengen tussen 8:00 – 9:00 uur naar kliniek Veterinary Practice Zoetrum! Je kunt jouw kat(ten) dezelfde dag weer ophalen.\nTene kuenta ku lo tin ku trese bo pushi riba dia di sita den mainta na luga di opvang na kliniek Veterinary Practice Zoetrum!
URL:https://kittenrescuecuracao.com/sterilisatieacties/gratis-sterilisatie-katten-veterinary-practice-zoetrum/2026-03-20/
LOCATION:Veterinary Practice Zoetrum\, Seru Loraweg 41\, Willemstad\, 0000CW\, Curaçao
ATTACH;FMTTYPE=image/jpeg:https://kittenrescuecuracao.com/wp-content/uploads/2026/02/zoetrum.jpg
END:VEVENT
BEGIN:VEVENT
DTSTART;VALUE=DATE:20260317
DTEND;VALUE=DATE:20260318
DTSTAMP:20260424T103757
CREATED:20260226T132357Z
LAST-MODIFIED:20260226T132357Z
UID:10000223-1773705600-1773791999@kittenrescuecuracao.com
SUMMARY:Gratis Sterilisatie katten bij Veterinary Practice Zoetrum
DESCRIPTION:Houd er rekening mee dat je jouw kat(ten) op de dag van de afspraak moet brengen tussen 8:00 – 9:00 uur naar kliniek Veterinary Practice Zoetrum! Je kunt jouw kat(ten) dezelfde dag weer ophalen.\nTene kuenta ku lo tin ku trese bo pushi riba dia di sita den mainta na luga di opvang na kliniek Veterinary Practice Zoetrum!
URL:https://kittenrescuecuracao.com/sterilisatieacties/gratis-sterilisatie-katten-bij-veterinary-practice-zoetrum/2026-03-17/
LOCATION:Veterinary Practice Zoetrum\, Seru Loraweg 41\, Willemstad\, 0000CW\, Curaçao
ATTACH;FMTTYPE=image/jpeg:https://kittenrescuecuracao.com/wp-content/uploads/2026/02/zoetrum.jpg
END:VEVENT
BEGIN:VEVENT
DTSTART;VALUE=DATE:20260314
DTEND;VALUE=DATE:20260315
DTSTAMP:20260424T103757
CREATED:20260226T132703Z
LAST-MODIFIED:20260226T132703Z
UID:10000254-1773446400-1773532799@kittenrescuecuracao.com
SUMMARY:Gratis Sterilisatie katten bij Veterinary Practice Zoetrum
DESCRIPTION:Houd er rekening mee dat je jouw kat(ten) op de dag van de afspraak moet brengen tussen 8:00 – 9:00 uur naar kliniek Veterinary Practice Zoetrum! Je kunt jouw kat(ten) dezelfde dag weer ophalen.\nTene kuenta ku lo tin ku trese bo pushi riba dia di sita den mainta na luga di opvang na kliniek Veterinary Practice Zoetrum!
URL:https://kittenrescuecuracao.com/sterilisatieacties/gratis-sterilisatie-katten-bij-veterinary-practice-zoetrum-2/2026-03-14/
LOCATION:Veterinary Practice Zoetrum\, Seru Loraweg 41\, Willemstad\, 0000CW\, Curaçao
ATTACH;FMTTYPE=image/jpeg:https://kittenrescuecuracao.com/wp-content/uploads/2026/02/zoetrum.jpg
END:VEVENT
BEGIN:VEVENT
DTSTART;VALUE=DATE:20260313
DTEND;VALUE=DATE:20260314
DTSTAMP:20260424T103757
CREATED:20260226T132537Z
LAST-MODIFIED:20260312T121454Z
UID:10000238-1773360000-1773446399@kittenrescuecuracao.com
SUMMARY:Gratis Sterilisatie katten Veterinary Practice Zoetrum
DESCRIPTION:Houd er rekening mee dat je jouw kat(ten) op de dag van de afspraak moet brengen tussen 8:00 – 9:00 uur naar kliniek Veterinary Practice Zoetrum! Je kunt jouw kat(ten) dezelfde dag weer ophalen.\nTene kuenta ku lo tin ku trese bo pushi riba dia di sita den mainta na luga di opvang na kliniek Veterinary Practice Zoetrum!
URL:https://kittenrescuecuracao.com/sterilisatieacties/gratis-sterilisatie-katten-veterinary-practice-zoetrum/2026-03-13/
LOCATION:Veterinary Practice Zoetrum\, Seru Loraweg 41\, Willemstad\, 0000CW\, Curaçao
ATTACH;FMTTYPE=image/jpeg:https://kittenrescuecuracao.com/wp-content/uploads/2026/02/zoetrum.jpg
END:VEVENT
BEGIN:VEVENT
DTSTART;VALUE=DATE:20260310
DTEND;VALUE=DATE:20260311
DTSTAMP:20260424T103757
CREATED:20260226T132357Z
LAST-MODIFIED:20260226T132357Z
UID:10000222-1773100800-1773187199@kittenrescuecuracao.com
SUMMARY:Gratis Sterilisatie katten bij Veterinary Practice Zoetrum
DESCRIPTION:Houd er rekening mee dat je jouw kat(ten) op de dag van de afspraak moet brengen tussen 8:00 – 9:00 uur naar kliniek Veterinary Practice Zoetrum! Je kunt jouw kat(ten) dezelfde dag weer ophalen.\nTene kuenta ku lo tin ku trese bo pushi riba dia di sita den mainta na luga di opvang na kliniek Veterinary Practice Zoetrum!
URL:https://kittenrescuecuracao.com/sterilisatieacties/gratis-sterilisatie-katten-bij-veterinary-practice-zoetrum/2026-03-10/
LOCATION:Veterinary Practice Zoetrum\, Seru Loraweg 41\, Willemstad\, 0000CW\, Curaçao
ATTACH;FMTTYPE=image/jpeg:https://kittenrescuecuracao.com/wp-content/uploads/2026/02/zoetrum.jpg
END:VEVENT
BEGIN:VEVENT
DTSTART;VALUE=DATE:20260307
DTEND;VALUE=DATE:20260308
DTSTAMP:20260424T103757
CREATED:20260226T132703Z
LAST-MODIFIED:20260226T132703Z
UID:10000253-1772841600-1772927999@kittenrescuecuracao.com
SUMMARY:Gratis Sterilisatie katten bij Veterinary Practice Zoetrum
DESCRIPTION:Houd er rekening mee dat je jouw kat(ten) op de dag van de afspraak moet brengen tussen 8:00 – 9:00 uur naar kliniek Veterinary Practice Zoetrum! Je kunt jouw kat(ten) dezelfde dag weer ophalen.\nTene kuenta ku lo tin ku trese bo pushi riba dia di sita den mainta na luga di opvang na kliniek Veterinary Practice Zoetrum!
URL:https://kittenrescuecuracao.com/sterilisatieacties/gratis-sterilisatie-katten-bij-veterinary-practice-zoetrum-2/2026-03-07/
LOCATION:Veterinary Practice Zoetrum\, Seru Loraweg 41\, Willemstad\, 0000CW\, Curaçao
ATTACH;FMTTYPE=image/jpeg:https://kittenrescuecuracao.com/wp-content/uploads/2026/02/zoetrum.jpg
END:VEVENT
BEGIN:VEVENT
DTSTART;VALUE=DATE:20260306
DTEND;VALUE=DATE:20260307
DTSTAMP:20260424T103757
CREATED:20260226T132537Z
LAST-MODIFIED:20260312T121454Z
UID:10000237-1772755200-1772841599@kittenrescuecuracao.com
SUMMARY:Gratis Sterilisatie katten Veterinary Practice Zoetrum
DESCRIPTION:Houd er rekening mee dat je jouw kat(ten) op de dag van de afspraak moet brengen tussen 8:00 – 9:00 uur naar kliniek Veterinary Practice Zoetrum! Je kunt jouw kat(ten) dezelfde dag weer ophalen.\nTene kuenta ku lo tin ku trese bo pushi riba dia di sita den mainta na luga di opvang na kliniek Veterinary Practice Zoetrum!
URL:https://kittenrescuecuracao.com/sterilisatieacties/gratis-sterilisatie-katten-veterinary-practice-zoetrum/2026-03-06/
LOCATION:Veterinary Practice Zoetrum\, Seru Loraweg 41\, Willemstad\, 0000CW\, Curaçao
ATTACH;FMTTYPE=image/jpeg:https://kittenrescuecuracao.com/wp-content/uploads/2026/02/zoetrum.jpg
END:VEVENT
BEGIN:VEVENT
DTSTART;VALUE=DATE:20260303
DTEND;VALUE=DATE:20260304
DTSTAMP:20260424T103757
CREATED:20260226T132357Z
LAST-MODIFIED:20260226T132357Z
UID:10000221-1772496000-1772582399@kittenrescuecuracao.com
SUMMARY:Gratis Sterilisatie katten bij Veterinary Practice Zoetrum
DESCRIPTION:Houd er rekening mee dat je jouw kat(ten) op de dag van de afspraak moet brengen tussen 8:00 – 9:00 uur naar kliniek Veterinary Practice Zoetrum! Je kunt jouw kat(ten) dezelfde dag weer ophalen.\nTene kuenta ku lo tin ku trese bo pushi riba dia di sita den mainta na luga di opvang na kliniek Veterinary Practice Zoetrum!
URL:https://kittenrescuecuracao.com/sterilisatieacties/gratis-sterilisatie-katten-bij-veterinary-practice-zoetrum/2026-03-03/
LOCATION:Veterinary Practice Zoetrum\, Seru Loraweg 41\, Willemstad\, 0000CW\, Curaçao
ATTACH;FMTTYPE=image/jpeg:https://kittenrescuecuracao.com/wp-content/uploads/2026/02/zoetrum.jpg
END:VEVENT
BEGIN:VEVENT
DTSTART;VALUE=DATE:20260228
DTEND;VALUE=DATE:20260301
DTSTAMP:20260424T103757
CREATED:20260211T234106Z
LAST-MODIFIED:20260211T234106Z
UID:10000187-1772236800-1772323199@kittenrescuecuracao.com
SUMMARY:Gratis Sterilisatie kat op zaterdag 28-02-2026 | Veterinary Practice Zoetrum
DESCRIPTION:Houd er rekening mee dat je jouw kat(ten) op de dag van de afspraak moet brengen tussen 8:00 – 9:00 uur naar kliniek Veterinary Practice Zoetrum! Je kunt jouw kat(ten) dezelfde dag weer ophalen.\nTene kuenta ku lo tin ku trese bo pushi riba dia di sita den mainta na luga di opvang na kliniek Veterinary Practice Zoetrum!
URL:https://kittenrescuecuracao.com/sterilisatieacties/gratis-sterilisatie-kat-op-zaterdag-28-02-2026-veterinary-practice-zoetrum/
LOCATION:Veterinary Practice Zoetrum\, Seru Loraweg 41\, Willemstad\, 0000CW\, Curaçao
ATTACH;FMTTYPE=image/jpeg:https://kittenrescuecuracao.com/wp-content/uploads/2026/02/zoetrum.jpg
END:VEVENT
BEGIN:VEVENT
DTSTART;VALUE=DATE:20260227
DTEND;VALUE=DATE:20260228
DTSTAMP:20260424T103757
CREATED:20260211T233728Z
LAST-MODIFIED:20260211T234013Z
UID:10000184-1772150400-1772236799@kittenrescuecuracao.com
SUMMARY:Gratis Sterilisatie kat op vrijdag 27-02-2026 | Veterinary Practice Zoetrum
DESCRIPTION:Houd er rekening mee dat je jouw kat(ten) op de dag van de afspraak moet brengen tussen 8:00 – 9:00 uur naar kliniek Veterinary Practice Zoetrum! Je kunt jouw kat(ten) dezelfde dag weer ophalen.\nTene kuenta ku lo tin ku trese bo pushi riba dia di sita den mainta na luga di opvang na kliniek Veterinary Practice Zoetrum!
URL:https://kittenrescuecuracao.com/sterilisatieacties/gratis-sterilisatie-kat-op-vrijdag-27-02-2026-veterinary-practice-zoetrum/
LOCATION:Veterinary Practice Zoetrum\, Seru Loraweg 41\, Willemstad\, 0000CW\, Curaçao
ATTACH;FMTTYPE=image/jpeg:https://kittenrescuecuracao.com/wp-content/uploads/2026/02/zoetrum.jpg
END:VEVENT
BEGIN:VEVENT
DTSTART;VALUE=DATE:20260224
DTEND;VALUE=DATE:20260225
DTSTAMP:20260424T103757
CREATED:20260211T233919Z
LAST-MODIFIED:20260211T233919Z
UID:10000186-1771891200-1771977599@kittenrescuecuracao.com
SUMMARY:Gratis Sterilisatie kat op dinsdag 24-02-2026 | Veterinary Practice Zoetrum
DESCRIPTION:Houd er rekening mee dat je jouw kat(ten) op de dag van de afspraak moet brengen tussen 8:00 – 9:00 uur naar kliniek Veterinary Practice Zoetrum! Je kunt jouw kat(ten) dezelfde dag weer ophalen.\nTene kuenta ku lo tin ku trese bo pushi riba dia di sita den mainta na luga di opvang na kliniek Veterinary Practice Zoetrum!
URL:https://kittenrescuecuracao.com/sterilisatieacties/gratis-sterilisatie-kat-op-dinsdag-24-02-2026-veterinary-practice-zoetrum/
LOCATION:Veterinary Practice Zoetrum\, Seru Loraweg 41\, Willemstad\, 0000CW\, Curaçao
ATTACH;FMTTYPE=image/jpeg:https://kittenrescuecuracao.com/wp-content/uploads/2026/02/zoetrum.jpg
END:VEVENT
BEGIN:VEVENT
DTSTART;VALUE=DATE:20260221
DTEND;VALUE=DATE:20260222
DTSTAMP:20260424T103757
CREATED:20260211T233820Z
LAST-MODIFIED:20260211T233820Z
UID:10000185-1771632000-1771718399@kittenrescuecuracao.com
SUMMARY:Gratis Sterilisatie kat op zaterdag 21-02-2026 | Veterinary Practice Zoetrum
DESCRIPTION:Houd er rekening mee dat je jouw kat(ten) op de dag van de afspraak moet brengen tussen 8:00 – 9:00 uur naar kliniek Veterinary Practice Zoetrum! Je kunt jouw kat(ten) dezelfde dag weer ophalen.\nTene kuenta ku lo tin ku trese bo pushi riba dia di sita den mainta na luga di opvang na kliniek Veterinary Practice Zoetrum!
URL:https://kittenrescuecuracao.com/sterilisatieacties/gratis-sterilisatie-kat-op-zaterdag-21-02-2026-veterinary-practice-zoetrum/
LOCATION:Veterinary Practice Zoetrum\, Seru Loraweg 41\, Willemstad\, 0000CW\, Curaçao
ATTACH;FMTTYPE=image/jpeg:https://kittenrescuecuracao.com/wp-content/uploads/2026/02/zoetrum.jpg
END:VEVENT
BEGIN:VEVENT
DTSTART;VALUE=DATE:20260217
DTEND;VALUE=DATE:20260218
DTSTAMP:20260424T103757
CREATED:20260211T233617Z
LAST-MODIFIED:20260211T233617Z
UID:10000183-1771286400-1771372799@kittenrescuecuracao.com
SUMMARY:Gratis Sterilisatie kat op dinsdag 17-02-2026 | Veterinary Practice Zoetrum
DESCRIPTION:Houd er rekening mee dat je jouw kat(ten) op de dag van de afspraak moet brengen tussen 8:00 – 9:00 uur naar kliniek Veterinary Practice Zoetrum! Je kunt jouw kat(ten) dezelfde dag weer ophalen.\nTene kuenta ku lo tin ku trese bo pushi riba dia di sita den mainta na luga di opvang na kliniek Veterinary Practice Zoetrum!
URL:https://kittenrescuecuracao.com/sterilisatieacties/gratis-sterilisatie-kat-op-dinsdag-17-02-2026-veterinary-practice-zoetrum/
LOCATION:Veterinary Practice Zoetrum\, Seru Loraweg 41\, Willemstad\, 0000CW\, Curaçao
ATTACH;FMTTYPE=image/jpeg:https://kittenrescuecuracao.com/wp-content/uploads/2026/02/zoetrum.jpg
END:VEVENT
BEGIN:VEVENT
DTSTART;VALUE=DATE:20260214
DTEND;VALUE=DATE:20260215
DTSTAMP:20260424T103757
CREATED:20260211T233514Z
LAST-MODIFIED:20260211T233514Z
UID:10000182-1771027200-1771113599@kittenrescuecuracao.com
SUMMARY:Gratis Sterilisatie kat op zaterdag 14-02-2026 | Veterinary Practice Zoetrum
DESCRIPTION:Houd er rekening mee dat je jouw kat(ten) op de dag van de afspraak moet brengen tussen 8:00 – 9:00 uur naar kliniek Veterinary Practice Zoetrum! Je kunt jouw kat(ten) dezelfde dag weer ophalen.\nTene kuenta ku lo tin ku trese bo pushi riba dia di sita den mainta na luga di opvang na kliniek Veterinary Practice Zoetrum!
URL:https://kittenrescuecuracao.com/sterilisatieacties/gratis-sterilisatie-kat-op-zaterdag-14-02-2026-veterinary-practice-zoetrum/
LOCATION:Veterinary Practice Zoetrum\, Seru Loraweg 41\, Willemstad\, 0000CW\, Curaçao
ATTACH;FMTTYPE=image/jpeg:https://kittenrescuecuracao.com/wp-content/uploads/2026/02/zoetrum.jpg
END:VEVENT
BEGIN:VEVENT
DTSTART;VALUE=DATE:20260213
DTEND;VALUE=DATE:20260214
DTSTAMP:20260424T103757
CREATED:20260211T232444Z
LAST-MODIFIED:20260211T233142Z
UID:10000181-1770940800-1771027199@kittenrescuecuracao.com
SUMMARY:Gratis Sterilisatie kat op vrijdag 13-02-2026 | Veterinary Practice Zoetrum
DESCRIPTION:Houd er rekening mee dat je jouw kat(ten) op de dag van de afspraak moet brengen tussen 8:00 – 9:00 uur naar kliniek Veterinary Practice Zoetrum! Je kunt jouw kat(ten) dezelfde dag weer ophalen.\nTene kuenta ku lo tin ku trese bo pushi riba dia di sita den mainta na luga di opvang na kliniek Veterinary Practice Zoetrum!
URL:https://kittenrescuecuracao.com/sterilisatieacties/gratis-sterilisatie-kat-op-vrijdag-13-02-2026-veterinary-practice-zoetrum/
LOCATION:Veterinary Practice Zoetrum\, Seru Loraweg 41\, Willemstad\, 0000CW\, Curaçao
ATTACH;FMTTYPE=image/jpeg:https://kittenrescuecuracao.com/wp-content/uploads/2026/02/zoetrum.jpg
END:VEVENT
END:VCALENDAR